BEGIN:VCALENDAR
VERSION:2.0
PRODID:-//ChamberMaster//Event Calendar 2.0//EN
METHOD:PUBLISH
X-PUBLISHED-TTL:P3D
REFRESH-INTERVAL:P3D
CALSCALE:GREGORIAN
BEGIN:VEVENT
DTSTART:20190815T213000Z
DTEND:20190815T233000Z
X-MICROSOFT-CDO-ALLDAYEVENT:FALSE
SUMMARY:Young Professionals Summer Splash with Woburn Business Association
DESCRIPTION:Are you a young professional or simply young at heart?  Either way you are invited to our summer event with the Woburn Business Association's YP Summer Mixer at Boston Appliance.  This evening will include\n\nA Food Network Chef will be preparing appetizers and offering a cooking demonstration and preparing appetizers\, beer & wine\, and networking bingo.\n\n \n\nEnjoy refreshments and bring plenty of business cards to connect and build your network
X-ALT-DESC;FMTTYPE=text/html:Are you a young professional or simply young at heart?&nbsp\; Either way you are invited to our summer event with the Woburn Business Association&#39\;s YP Summer Mixer at Boston Appliance.&nbsp\; This evening will include<br />\nA Food Network Chef will be preparing appetizers and offering a cooking demonstration and preparing appetizers\, beer &amp\; wine\, and networking bingo.<br />\n&nbsp\;<br />\nEnjoy refreshments and bring plenty of business cards to connect and build your network
LOCATION:Boston Appliance 60 Cummings Park Drive Woburn\, MA 01801
UID:e.2559.1197
SEQUENCE:3
DTSTAMP:20260424T055148Z
URL:https://business.readingnreadingchamber.org/events/details/young-professionals-summer-splash-with-woburn-business-association-1197
END:VEVENT

END:VCALENDAR
