BEGIN:VCALENDAR
VERSION:2.0
PRODID:-//ChamberMaster//Event Calendar 2.0//EN
METHOD:PUBLISH
X-PUBLISHED-TTL:P3D
REFRESH-INTERVAL:P3D
CALSCALE:GREGORIAN
BEGIN:VEVENT
DTSTART:20200508T170000Z
DTEND:20200508T190000Z
X-MICROSOFT-CDO-ALLDAYEVENT:FALSE
SUMMARY:You've Been Approved for PPP\,! Great\, Now What? - Webinar
DESCRIPTION:Approved for a PPP Loan! And\, Now What? (Webinar)\n\n\nTips on what to expect after you have been approved for the\n\nPaycheck Protection Program Loan (PPP)\, what documentation\n\nyou should keep track of to comply and request forgiveness\n\nof the loan\, what you can and cannot use the loan funds for\,\n\nany other questions you might have regarding PPP program.\n\nBrought to you by the Western Mass Business Technical Assistance\n\nCollaboration: Center for Women and Enterprise\, Common Capital\, \n\nFranklin County CDC\, Massachusetts Small Business Development\n\nCenter\, SCORE of Western Mass\, and Valley CDC.\n\nSpeaker(s): Presenter: Karen Ceppetelli Durand\, Acorn Business\n\nAdvisors\n\nClick Here to Register
X-ALT-DESC;FMTTYPE=text/html:<div id="content">\n<div class="contentpane" id="dnn_contentpane">\n<div class="DnnModule DnnModule-DNNArticle-ArticleView DnnModule-744">Approved for a PPP Loan! And\, Now What? (Webinar)\n<div id="dnn_ctr744_ContentPane">\n<div class="DNNModuleContent ModDNNArticleArticleViewC" id="dnn_ctr744_ModuleContent">\n<p>Tips on what to expect after you have been approved for the<br />\nPaycheck Protection Program Loan (PPP)\, what documentation<br />\nyou should keep track of&nbsp\;to comply and request forgiveness<br />\nof the loan\, what you can and cannot use the loan funds for\,<br />\nany other questions you might have regarding PPP program.</p>\n\n<p>Brought to you by the Western Mass Business Technical Assistance<br />\nCollaboration:&nbsp\;Center for Women and Enterprise\,&nbsp\;Common Capital\,&nbsp\;<br />\nFranklin County CDC\,&nbsp\;Massachusetts Small Business Development<br />\nCenter\,&nbsp\;SCORE of Western Mass\, and&nbsp\;Valley CDC.</p>\n\n<p>Speaker(s): Presenter: Karen Ceppetelli Durand\, Acorn Business<br />\nAdvisors</p>\n\n<p><a href="https://clients.msbdc.org/workshop.aspx?ekey=60400015">Click Here to Register</a></p>\n</div>\n</div>\n</div>\n</div>\n</div>\n
LOCATION:Online webinar. Link will be sent via email after you register.
UID:e.2559.1248
SEQUENCE:3
DTSTAMP:20260423T145230Z
URL:https://business.readingnreadingchamber.org/events/details/you-ve-been-approved-for-ppp-great-now-what-webinar-1248
END:VEVENT

END:VCALENDAR
