BEGIN:VCALENDAR
VERSION:2.0
PRODID:-//ChamberMaster//Event Calendar 2.0//EN
METHOD:PUBLISH
X-PUBLISHED-TTL:P3D
REFRESH-INTERVAL:P3D
CALSCALE:GREGORIAN
BEGIN:VEVENT
DTSTART:20230309T220000Z
DTEND:20230310T010000Z
X-MICROSOFT-CDO-ALLDAYEVENT:FALSE
SUMMARY:Winterfest - 2023
DESCRIPTION:Last year's Winterfest was so fun we decided to do it again! Join us on Thursday\, March 9th from 5   8 PM in Reading Square for this outdoor festival. This year there will be fire tables and s'mores on the common\,  a beer garden featuring Hopothecary Ales\, Gentile Brewing\, and Small Change Brewing\, lit ice sculptures and photos with Olaf.  Come stroll the downtown\, pop into stores and restaurants\, and make memories in Reading Square. Event is free to attend.
X-ALT-DESC;FMTTYPE=text/html:<span style="font-family:times new roman\,serif\;"><span style="font-size:12.0pt\;">Last year&rsquo\;s Winterfest was so fun we decided to do it again! Join us on Thursday\, March 9<sup>th</sup> from 5 &ndash\; 8 PM in Reading Square for this outdoor festival. This year there will be fire tables and s&rsquo\;mores on the common\, &nbsp\;a beer garden featuring Hopothecary Ales\, Gentile Brewing\, and Small Change Brewing\, lit ice sculptures and photos with Olaf. &nbsp\;Come stroll the downtown\, pop into stores and restaurants\, and make memories in Reading Square. Event is free to attend.&nbsp\;</span></span>
LOCATION:Reading Square
UID:e.2559.1472
SEQUENCE:3
DTSTAMP:20260420T144401Z
URL:https://business.readingnreadingchamber.org/events/details/winterfest-2023-1472
END:VEVENT

END:VCALENDAR
