BEGIN:VCALENDAR
VERSION:2.0
PRODID:-//ChamberMaster//Event Calendar 2.0//EN
METHOD:PUBLISH
X-PUBLISHED-TTL:P3D
REFRESH-INTERVAL:P3D
CALSCALE:GREGORIAN
BEGIN:VEVENT
DTSTART:20200212T223000Z
DTEND:20200213T003000Z
X-MICROSOFT-CDO-ALLDAYEVENT:FALSE
SUMMARY:WIB Valentine Networking
DESCRIPTION:Come to our first 2020 Women in Business event\, co hosted with the Wilmington Tewksbury\, Melrose\, Stoneham and Wakefield Lynnfield Chambers.  Come celebrate Valentine's week by sparking relationships with fellow business women while enjoying complimentary appetizers\, cash bar\, and some fun networking activities.  Relationships = Referrals = Sales\n\n \n\nOur Women In Business Networking series is exclusive to members and guests of the Wilmington/Tewksbury\, Reading/North Reading\, Stoneham\, Wakefield/Lynnfield and Melrose Chambers.\n\n\n\nOur delicious event includes a signature valentine cocktail and appetizers including a charcuterie platter\, veggies and dip\, margarita flatbread pizza and meatball sliders with marinara and Parmesan cheese.  And don't forget a dessert tray of brownies\, cookies & mini cheesecakes
X-ALT-DESC;FMTTYPE=text/html:<span style="font-size:14px\;"><span style="font-family:arial\;">Come to our first 2020 Women in Business event\, co hosted with the Wilmington Tewksbury\, Melrose\, Stoneham and Wakefield Lynnfield Chambers.&nbsp\; Come celebrate Valentine&#39\;s week by sparking relationships with fellow business women while enjoying complimentary appetizers\, cash bar\, and some fun networking activities.&nbsp\;&nbsp\;Relationships = Referrals = Sales<br />\n&nbsp\;<br />\nOur Women In Business Networking series is exclusive to members and guests of the Wilmington/Tewksbury\, Reading/North Reading\, Stoneham\, Wakefield/Lynnfield and Melrose Chambers.<br />\n<br />\nOur delicious event includes a signature valentine cocktail and appetizers including a charcuterie platter\, veggies and dip\,&nbsp\;margarita flatbread pizza and meatball sliders with marinara and Parmesan cheese.&nbsp\; And don&#39\;t forget a dessert tray of brownies\, cookies &amp\; mini cheesecakes</span></span><br />\n&nbsp\;
LOCATION:Hampton Inn 371 Washington St\, Woburn\, MA 01801 (near Grill 110 and Chick-fil-A) Be among the first to see this brand new hotel!
UID:e.2559.1221
SEQUENCE:3
DTSTAMP:20260423T185348Z
URL:https://business.readingnreadingchamber.org/events/details/wib-valentine-networking-1221
END:VEVENT

END:VCALENDAR
