BEGIN:VCALENDAR
VERSION:2.0
PRODID:-//ChamberMaster//Event Calendar 2.0//EN
METHOD:PUBLISH
X-PUBLISHED-TTL:P3D
REFRESH-INTERVAL:P3D
CALSCALE:GREGORIAN
BEGIN:VEVENT
DTSTART:20190430T213000Z
DTEND:20190430T230000Z
X-MICROSOFT-CDO-ALLDAYEVENT:FALSE
SUMMARY:Welcome to Reading New Resident Reception
DESCRIPTION:Meet representatives from town government\, schools\, churches\, youth groups and community organizations.  Learn about services\, programs\, and events in Reading.  Mingle with other new residents.  The first 50 new residents to register will receive a welcome bag filled with information and swag from local businesses. One welcome bag per family.  To register for this event to be a Vendor (Reading Non profits only) click here.\n\nTo register to attend this event as a new resident\, click here.\n\n\n\nThis event is co-hosted by the Reading Public Library\, Town of Reading and the Reading-North Reading Chamber of Commerce.
X-ALT-DESC;FMTTYPE=text/html:<span style="font-size:12px\;"><span style="font-family:arial\;"><span style="color:#000000\;">Meet representatives from town government\, schools\, churches\, youth groups and community organizations.&nbsp\;&nbsp\;Learn about services\, programs\, and events in Reading.&nbsp\; Mingle with other new residents.&nbsp\;&nbsp\;The first 50 new residents to register will receive a welcome bag filled with information and swag from local businesses. One welcome bag per family.&nbsp\; To register for this event to be a Vendor (Reading Non profits only) <a href="https://docs.google.com/forms/d/e/1FAIpQLSdjn4Df5RtS4V58OaZ6q8n-rqZL6scohSKo0sg_KoUTYeL_7g/viewform">click here</a>.<br />\nTo register to attend this event as a new resident\, <a href="https://libcal.readingpl.org/event/4814738">click here</a>.</span><br />\n<br />\n<span style="color:#000000\;">This event is co-hosted by the Reading Public Library\, Town of Reading and the Reading-North Reading Chamber of Commerce.&nbsp\;</span></span></span>
LOCATION:Reading Public Library 64 Middlesex Avenue Reading\, MA 01867
UID:e.2559.1160
SEQUENCE:3
DTSTAMP:20260424T114627Z
URL:https://business.readingnreadingchamber.org/events/details/welcome-to-reading-new-resident-reception-1160
END:VEVENT

END:VCALENDAR
