BEGIN:VCALENDAR
VERSION:2.0
PRODID:-//ChamberMaster//Event Calendar 2.0//EN
METHOD:PUBLISH
X-PUBLISHED-TTL:P3D
REFRESH-INTERVAL:P3D
CALSCALE:GREGORIAN
BEGIN:VEVENT
DTSTART:20190316T140000Z
DTEND:20190316T180000Z
X-MICROSOFT-CDO-ALLDAYEVENT:FALSE
SUMMARY:Social Sewing Studio Meet & Greet
DESCRIPTION:Want to know more about our classes and what we do?  Meet the owner\, sign up\, see the studio?\n\nEveryone is welcome!\n\n\n\nSocial Sewing Studio is a modern take on the traditional sewing class\, aimed at giving people in the community an outlet to explore their creativity. With our society's growing dependence on technology\, generational sewing and home economics has become a lost art. Social Sewing Studio strives to change that by providing after school programs for kids and teens\, as well as adult classes to help people escape the hold of their screens and the stresses of the day-to-day by learning a new\, exciting hobby\, while having fun at the same time.
X-ALT-DESC;FMTTYPE=text/html:Want to know more about our classes and what we do?&nbsp\; Meet the owner\, sign up\, see the studio?<br />\nEveryone is welcome!<br />\n<br />\nSocial Sewing Studio is a modern take on the traditional sewing class\, aimed at giving people in the community an outlet to explore their creativity. With our society&rsquo\;s growing dependence on technology\, generational sewing and home economics has become a lost art. Social Sewing Studio strives to change that by providing after school programs for kids and teens\, as well as adult classes to help people escape the hold of their screens and the stresses of the day-to-day by learning a new\, exciting hobby\, while having fun at the same time.
LOCATION:Social Sewing Studio 246 Main Street North Reading\, MA
UID:e.2559.1180
SEQUENCE:3
DTSTAMP:20260424T114530Z
URL:https://business.readingnreadingchamber.org/events/details/social-sewing-studio-meet-greet-1180
END:VEVENT

END:VCALENDAR
