BEGIN:VCALENDAR
VERSION:2.0
PRODID:-//ChamberMaster//Event Calendar 2.0//EN
METHOD:PUBLISH
X-PUBLISHED-TTL:P3D
REFRESH-INTERVAL:P3D
CALSCALE:GREGORIAN
BEGIN:VEVENT
DTSTART:20191205T220000Z
DTEND:20191206T020000Z
X-MICROSOFT-CDO-ALLDAYEVENT:FALSE
SUMMARY:Shop the Block
DESCRIPTION:Come kick off the Holiday Season by Shopping Local and Enjoying Treats and Specials at Downtown Retailers
X-ALT-DESC;FMTTYPE=text/html:Come kick off the Holiday Season by Shopping Local and Enjoying Treats and Specials at Downtown Retailers
LOCATION:Reading Square
UID:e.2559.1216
SEQUENCE:3
DTSTAMP:20260423T220650Z
URL:https://business.readingnreadingchamber.org/events/details/shop-the-block-1216
END:VEVENT

END:VCALENDAR
