BEGIN:VCALENDAR
VERSION:2.0
PRODID:-//ChamberMaster//Event Calendar 2.0//EN
METHOD:PUBLISH
X-PUBLISHED-TTL:P3D
REFRESH-INTERVAL:P3D
CALSCALE:GREGORIAN
BEGIN:VEVENT
DTSTART:20200409T140000Z
DTEND:20200409T150000Z
X-MICROSOFT-CDO-ALLDAYEVENT:FALSE
SUMMARY:SBA Webinar with MA Director
DESCRIPTION:Confused about the SBA programs and resource?  Join our webinar with Senator Jason Lewis and Bob Nelson Massachusetts District Director for the SBA.  Mr. Nelson will give an overview of available SBA programs. We will then ask questions you and others have shared with us\, focusing on the questions we get most frequently. We will follow up on any questions we are unable to ask during the call due to time or other constraints. This webinar is available to anyone interested\; you do not need to own a business or be a chamber member to participate.  Questions can be email to Emily in Senator Lewis' office at  Emily.granoff@masenate.gov\, as we expect a large number of participants.    This call is open to the public and a recorded version of the call will be available afterwards for anyone who is unable to join us.  We have received an overwhelming amount interest in Thursday's call\, and we want to make sure that you and any interested small business owners have a chance to participate. To that end\, Stoneham TV will be streaming the call live (link here)\n\n\n\n*Take a moment and download GoToMeeting prior to the call.\n\nPlease join my meeting from your computer\, tablet or smartphone. \n\nhttps://global.gotomeeting.com/join/879457909\n\n\n\nYou can also dial in using your phone. \n\nUnited States: +1 (224) 501-3412\n\n\n\nAccess Code: 879-457-909\n\n\n\nNew to GoToMeeting? Get the app now and be ready when your first meeting starts:\n\nhttps://global.gotomeeting.com/install/879457909
X-ALT-DESC;FMTTYPE=text/html:<span style="font-size:12px\;"><span style="font-family:arial\;">Confused about the SBA programs and resource?&nbsp\; Join our webinar with Senator Jason Lewis and Bob Nelson Massachusetts District Director for the SBA.&nbsp\; Mr. Nelson will give an overview of available SBA programs. We will then ask questions you and others have shared with us\, focusing on the questions we get most frequently. We will follow up on any questions we are unable to ask during the call due to time or other constraints. This webinar is available to anyone interested\; you do not need to own a business or be a chamber member to participate.&nbsp\; Questions can be email to Emily in Senator Lewis&#39\; office at&nbsp\; <a href="mailto:Emily.granoff@masenate.gov">Emily.granoff@masenate.gov</a>\, as we expect a large number of participants.&nbsp\;&nbsp\;&nbsp\; This call is open to the public and a recorded version of the call will be available afterwards for anyone who is unable to join us.&nbsp\; </span></span><strong><span style="font-family:calibri\,sans-serif\;"><span style="font-size:11.0pt\;">We have received an overwhelming amount interest in Thursday&rsquo\;s call\, and we want to make sure that you and any interested small business owners have a chance to participate. To that end\, Stoneham TV will be streaming the call live (link <a href="https://urldefense.proofpoint.com/v2/url?u=https-3A__videoplayer.telvue.com_player_MYHMRKXBbGFaah07vKkZ-5F-2DJ4SThODdPq_playlists_7574_stream_763-3Fautostart-3Dfalse-26showtabssearch-3Dtrue-26fullscreen-3Dfalse-26jwsource-3Dcl&amp\;d=DwMFaQ&amp\;c=lDF7oMaPKXpkYvev9V-fVahWL0QWnGCCAfCDz1Bns_w&amp\;r=wknjnAvnReCmI1pAMF7yLgQ9j5P_2NX7MEpcnpI3UHA&amp\;m=o_gj5q0Q0y49Pn80xsJS68XBpjBkPpeFNH-fMscTVq4&amp\;s=RZEygImfxqRug5wnKGia0pvK7iRChAjZSmMOb52q_Us&amp\;e=">here</a></span></span></strong><span style="font-size:12px\;"><span style="font-family:arial\;"><strong>)</strong><br />\n<br />\n<strong>*Take a moment and download GoToMeeting prior to the call.</strong><br />\n<strong>Please join my meeting from your computer\, tablet or smartphone. </strong><br />\n<a href="https://urldefense.proofpoint.com/v2/url?u=https-3A__www.google.com_url-3Fq-3Dhttps-3A__global.gotomeeting.com_join_879457909-26sa-3DD-26usd-3D2-26usg-3DAOvVaw3-5FCHSBiYGapLnxG-2DIcegTv&amp\;d=DwMFaQ&amp\;c=lDF7oMaPKXpkYvev9V-fVahWL0QWnGCCAfCDz1Bns_w&amp\;r=wknjnAvnReCmI1pAMF7yLgQ9j5P_2NX7MEpcnpI3UHA&amp\;m=7tPVpBTtpe8QCeCehRyhTWv-7IzFb5brDMocd7sGXQU&amp\;s=3EpLOpZMkKMmxJbXva6Xn9EVAfPai1tO4ySYBEVGK8w&amp\;e=" target="_blank">https://global.gotomeeting.com/join/879457909</a><br />\n<br />\n<strong>You can also dial in using your phone. </strong><br />\nUnited States: +1 (224) 501-3412<br />\n<br />\n<strong>Access Code:</strong> 879-457-909<br />\n<br />\nNew to GoToMeeting? Get the app now and be ready when your first meeting starts:<br />\n<a href="https://urldefense.proofpoint.com/v2/url?u=https-3A__www.google.com_url-3Fq-3Dhttps-3A__global.gotomeeting.com_install_879457909-26sa-3DD-26usd-3D2-26usg-3DAOvVaw0dPo4xE2tGOj9Gn-2DoP7J2W&amp\;d=DwMFaQ&amp\;c=lDF7oMaPKXpkYvev9V-fVahWL0QWnGCCAfCDz1Bns_w&amp\;r=wknjnAvnReCmI1pAMF7yLgQ9j5P_2NX7MEpcnpI3UHA&amp\;m=7tPVpBTtpe8QCeCehRyhTWv-7IzFb5brDMocd7sGXQU&amp\;s=icUvxINqN23u50jIIEfxIRUxNYqHyjrckOaLRUCJG7Y&amp\;e=" target="_blank">https://global.gotomeeting.com/install/879457909</a>&nbsp\; &nbsp\;<br />\n&nbsp\;</span></span><br />\n&nbsp\;
LOCATION:Webinar
UID:e.2559.1245
SEQUENCE:3
DTSTAMP:20260423T160738Z
URL:https://business.readingnreadingchamber.org/events/details/sba-webinar-with-ma-director-1245
END:VEVENT

END:VCALENDAR
