BEGIN:VCALENDAR
VERSION:2.0
PRODID:-//ChamberMaster//Event Calendar 2.0//EN
METHOD:PUBLISH
X-PUBLISHED-TTL:P3D
REFRESH-INTERVAL:P3D
CALSCALE:GREGORIAN
BEGIN:VEVENT
DTSTART:20181114T230000Z
DTEND:20181115T010000Z
X-MICROSOFT-CDO-ALLDAYEVENT:FALSE
SUMMARY:Rotary Means Business - Generational Magic
DESCRIPTION:Event Schedule                                   \n\n6:00 pm -8:00 pm\n\n\n\nOpen networking 6:00-6:30\n\nProgram and intros 6:30-7:30\n\nOpen networking 7:30-8:00\n\n\n\nFeatured Speaker:                              John Vetere\n\nTopic:                                                   Generational Magic \n\n\n\nIncrease communication\, cooperation\, collaboration\, performance\, and productivity in the workplace. Learn how to put an end to the popular culture inspired generational myths that prevent you from capitalizing on the power of everyone\, no matter what generation they are from\, currently in your workplace.\n\n\n\nThis month's Featured Cause/Charity:    \n\nAndover's Downtown Businesses Relief Fund. \n\nMany of Andover's downtown businesses were forced to close for a significant length of time following the Columbia Gas crisis.  This month's cause/charity will be voluntary contributions to a fund established to support these impacted local businesses. \n\n\n\n\n\nSpecial Guest:  This month's special guest Ironstone Farm. Ironstone\, through its programs Challenge Unlimited and Ironstone Therapy\, connects people and horses to improve the quality of life for those participating in the numerous programs there. The Rotary Club of Andover has sponsored many programs there\, including one recently for individuals in early recovery from substance abuse and addiction. Other programs service cancer survivors\, veterans (with PTSD)\, and individuals with a wide range of physics\, social\, cognitive\, and other disabilities.
X-ALT-DESC;FMTTYPE=text/html:<span style="color:#222222\;"><span style="font-family:georgia\,serif\;"><span style="font-size:12.0pt\;">Event Schedule&nbsp\;&nbsp\;&nbsp\;&nbsp\;&nbsp\;&nbsp\;&nbsp\;&nbsp\;&nbsp\;&nbsp\;&nbsp\;&nbsp\;&nbsp\;&nbsp\;&nbsp\;&nbsp\;&nbsp\;&nbsp\;&nbsp\;&nbsp\;&nbsp\;&nbsp\;&nbsp\;&nbsp\;&nbsp\;&nbsp\;&nbsp\;&nbsp\;&nbsp\;&nbsp\;&nbsp\;&nbsp\;&nbsp\;&nbsp\;&nbsp\;<br />\n6:00 pm -8:00 pm<br />\n<br />\nOpen networking 6:00-6:30<br />\nProgram and intros 6:30-7:30<br />\nOpen networking 7:30-8:00</span></span></span><br />\n<br />\n<span style="color:#222222\;"><span style="font-family:georgia\,serif\;"><span style="font-size:12.0pt\;">Featured Speaker:&nbsp\;&nbsp\;&nbsp\;&nbsp\;&nbsp\;&nbsp\;&nbsp\;&nbsp\;&nbsp\;&nbsp\;&nbsp\;&nbsp\;&nbsp\;&nbsp\;&nbsp\;&nbsp\;&nbsp\;&nbsp\;&nbsp\;&nbsp\;&nbsp\;&nbsp\;&nbsp\;&nbsp\;&nbsp\;&nbsp\;&nbsp\;&nbsp\;&nbsp\; John Vetere</span></span></span><br />\n<span style="color:#222222\;"><span style="font-family:georgia\,serif\;"><span style="font-size:12.0pt\;">Topic:&nbsp\;&nbsp\;&nbsp\;&nbsp\;&nbsp\;&nbsp\;&nbsp\;&nbsp\;&nbsp\;&nbsp\;&nbsp\;&nbsp\;&nbsp\;&nbsp\;&nbsp\;&nbsp\;&nbsp\;&nbsp\;&nbsp\;&nbsp\;&nbsp\;&nbsp\;&nbsp\;&nbsp\;&nbsp\;&nbsp\;&nbsp\;&nbsp\;&nbsp\;&nbsp\;&nbsp\;&nbsp\;&nbsp\;&nbsp\;&nbsp\;&nbsp\;&nbsp\;&nbsp\;&nbsp\;&nbsp\;&nbsp\;&nbsp\;&nbsp\;&nbsp\;&nbsp\;&nbsp\;&nbsp\;&nbsp\;&nbsp\;&nbsp\; Generational Magic </span></span></span><br />\n<br />\n<span style="color:#222222\;"><span style="font-family:georgia\,serif\;"><span style="font-size:12.0pt\;">Increase communication\, cooperation\, collaboration\, performance\, and productivity in the workplace. Learn how to put an end to the popular culture inspired generational myths that prevent you from capitalizing on the power of everyone\, no matter what generation they are from\, currently in your workplace.</span></span></span><br />\n<br />\n<strong><span style="color:#FF0000\;"><span style="font-family:georgia\,serif\;"><span style="font-size:12.0pt\;">This month&rsquo\;s Featured Cause/Charity:&nbsp\;&nbsp\;&nbsp\; </span></span></span></strong><br />\n<span style="color:#222222\;"><span style="font-family:georgia\,serif\;"><span style="font-size:12.0pt\;">Andover&rsquo\;s Downtown Businesses Relief Fund.&nbsp\;<br />\nMany of Andover&rsquo\;s downtown businesses were forced to close for a significant length of time following the Columbia Gas crisis.&nbsp\; This month&rsquo\;s cause/charity will be voluntary contributions to a fund established to support these impacted local businesses.&nbsp\;</span></span></span><br />\n<br />\n<br />\n<strong><span style="color:#222222\;"><span style="font-family:georgia\,serif\;"><span style="font-size:12.0pt\;">Special Guest:&nbsp\; </span></span></span></strong><span style="color:#222222\;"><span style="font-family:georgia\,serif\;"><span style="font-size:12.0pt\;">This month&rsquo\;s special guest Ironstone Farm. Ironstone\, through its programs Challenge Unlimited and Ironstone Therapy\, connects people and horses to improve the quality of life for those participating in the numerous programs there. The Rotary Club of Andover has sponsored many programs there\, including one recently for individuals in early recovery from substance abuse and addiction. Other programs service cancer survivors\, veterans (with PTSD)\, and individuals with a wide range of physics\, social\, cognitive\, and other disabilities.</span></span></span><br />\n&nbsp\;
LOCATION:Lanam Club 260 North Main Street Andover\, MA 01810
UID:e.2559.1151
SEQUENCE:3
DTSTAMP:20260424T184835Z
URL:https://business.readingnreadingchamber.org/events/details/rotary-means-business-generational-magic-1151
END:VEVENT

END:VCALENDAR
