BEGIN:VCALENDAR
VERSION:2.0
PRODID:-//ChamberMaster//Event Calendar 2.0//EN
METHOD:PUBLISH
X-PUBLISHED-TTL:P3D
REFRESH-INTERVAL:P3D
CALSCALE:GREGORIAN
BEGIN:VEVENT
DTSTART:20260425T130000Z
DTEND:20260425T140000Z
X-MICROSOFT-CDO-ALLDAYEVENT:FALSE
SUMMARY:Ribbon Cutting at Oasis
DESCRIPTION:Join us for a Ribbon cutting as we celebrate to opening of Oasis\, the Brazilian restaurant opening at 454 Main Street in Reading (former location of Jimbo's Roast Beef and Dunkin Donuts).\n\n\n\nOasis is a Brazilian-inspired breakfast cafe serving specialty coffee\, acai bowls\, fresh juices\, and signature breakfast plates.
X-ALT-DESC;FMTTYPE=text/html:Join us for a Ribbon cutting as we celebrate to opening of Oasis\, the Brazilian restaurant opening at 454 Main Street in Reading (former location of Jimbo&#39\;s Roast Beef and Dunkin Donuts).<br />\n<br />\n<span style="font-family: &quot\;open sans&quot\;\, arial\, sans-serif\; font-size: 14px\;">Oasis is a Brazilian-inspired breakfast cafe serving specialty coffee\, acai bowls\, fresh juices\, and signature breakfast plates.</span>
LOCATION:
UID:e.2559.1801
SEQUENCE:3
DTSTAMP:20260422T190028Z
URL:https://business.readingnreadingchamber.org/events/details/ribbon-cutting-at-oasis-1801
END:VEVENT

END:VCALENDAR
