BEGIN:VCALENDAR
VERSION:2.0
PRODID:-//ChamberMaster//Event Calendar 2.0//EN
METHOD:PUBLISH
X-PUBLISHED-TTL:P3D
REFRESH-INTERVAL:P3D
CALSCALE:GREGORIAN
BEGIN:VEVENT
DTSTART:20190916T130000Z
DTEND:20190916T153000Z
X-MICROSOFT-CDO-ALLDAYEVENT:FALSE
SUMMARY:Ribbon Cutting and Open House at North Reading Storage Solutions
DESCRIPTION:Come take a tour and check out the new North Reading Storage Solutions.  Ribbon cutting is at 9:30 AM.  Stop by anytime between 9 - 11:30 AM and enjoy refreshments.
X-ALT-DESC;FMTTYPE=text/html:<span style="font-size:14px\;">Come take a tour and check out the new North Reading Storage Solutions.&nbsp\; Ribbon cutting is at 9:30 AM.&nbsp\; Stop by anytime between 9 - 11:30 AM and enjoy refreshments.&nbsp\;&nbsp\;&nbsp\;&nbsp\;&nbsp\;&nbsp\;&nbsp\;</span>&nbsp\;&nbsp\;&nbsp\;&nbsp\;&nbsp\;&nbsp\;&nbsp\;&nbsp\;&nbsp\;&nbsp\;
LOCATION:North Reading Storage Storage Solutions 35 Main Street North Reading MA 01864
UID:e.2559.1211
SEQUENCE:3
DTSTAMP:20260424T024627Z
URL:https://business.readingnreadingchamber.org/events/details/ribbon-cutting-and-open-house-at-north-reading-storage-solutions-1211
END:VEVENT

END:VCALENDAR
