BEGIN:VCALENDAR
VERSION:2.0
PRODID:-//ChamberMaster//Event Calendar 2.0//EN
METHOD:PUBLISH
X-PUBLISHED-TTL:P3D
REFRESH-INTERVAL:P3D
CALSCALE:GREGORIAN
BEGIN:VEVENT
DTSTART:20200512T170000Z
DTEND:20200512T180000Z
X-MICROSOFT-CDO-ALLDAYEVENT:FALSE
SUMMARY:Reopening Your Business: Marketing Panel Discussion with Small Business Owners (Webinar)
DESCRIPTION:Hear from business owners on their approaches\n\nto email marketing\, including how to craft sensitive\n\nbut engaging messages that resonate with your\n\ncustomers\, and how to leverage your website to\n\neffectively communicate with your existing and\n\npotential new customers.\n\nBrought to you by the WesternMass Business\n\nTechnical Assistance Collaboration: Center for\n\nWomen and Enterprise\, Common Capital\, \n\nFranklin County CDC\, Massachusetts Small\n\nBusiness Development Center\, SCORE of\n\nWestern Mass\, and Valley CDC.\n\nInformation on how to join will be sent once\n\nregistered.\n\n \n\n\nSpeaker(s): Beth Pelletier\, Life & Business\n\nCoach at b.p. coaching\; and Jim Young\,\n\nThe Centered Coach\n\nCo-Sponsor(s): Center for Women and\n\nEnterprise\, Common Capital\, Franklin County CDC\,\n\n Massachusetts Small Business Development\n\nCenter\, SCORE of Western Mass\, and Valley CDC\n\nRegister Online\n\nAlready Registered? Sign in for more information.\n\n\n\nPhone: 413-577-1768
X-ALT-DESC;FMTTYPE=text/html:<div class="cdworkshopHTMLinfo">\n<p>Hear from business owners on their approaches<br />\nto email marketing\, including how to craft sensitive<br />\nbut engaging messages that resonate with your<br />\ncustomers\, and how to leverage your website to<br />\neffectively communicate with your existing and<br />\npotential new customers.</p>\n\n<p>Brought to you by the WesternMass Business<br />\nTechnical Assistance Collaboration:&nbsp\;Center for<br />\nWomen and Enterprise\,&nbsp\;Common Capital\,&nbsp\;<br />\nFranklin County CDC\,&nbsp\;Massachusetts Small<br />\nBusiness Development Center\,&nbsp\;SCORE of<br />\nWestern Mass\, and&nbsp\;Valley CDC.</p>\n\n<p>Information on how to join will be sent once<br />\nregistered.<br />\n&nbsp\;</p>\n</div>\n\n<p class="cdworkshoptextinfo">Speaker(s): Beth Pelletier\, Life &amp\; Business<br />\nCoach at b.p. coaching\; and Jim Young\,<br />\nThe Centered Coach</p>\n\n<p class="cdworkshoptextinfo">Co-Sponsor(s): Center for Women and<br />\nEnterprise\,&nbsp\;Common Capital\,&nbsp\;Franklin County CDC\,<br />\n&nbsp\;Massachusetts Small Business Development<br />\nCenter\,&nbsp\;SCORE of Western Mass\, and&nbsp\;Valley CDC</p>\n\n<div><a class="cdeventreg" href="https://clients.msbdc.org/reg.aspx?mode=event&amp\;event=60400017">Register Online</a></div>\n\n<div>Already Registered? <a href="https://clients.msbdc.org/reg.aspx?mode=signin&amp\;origurl=workshop.aspx%3fekey%3d60400017">Sign in</a> for more information.</div>\n\n<div id="ContentPlaceHolder1_divcontact">\n<div class="cdtopmargin">\n<div>Phone: 413-577-1768</div>\n\n<div>&nbsp\;</div>\n</div>\n</div>\n
LOCATION:Webinar
UID:e.2559.1251
SEQUENCE:3
DTSTAMP:20260423T144117Z
URL:https://business.readingnreadingchamber.org/events/details/reopening-your-business-marketing-panel-discussion-with-small-business-owners-webinar-1251
END:VEVENT

END:VCALENDAR
