BEGIN:VCALENDAR
VERSION:2.0
PRODID:-//ChamberMaster//Event Calendar 2.0//EN
METHOD:PUBLISH
X-PUBLISHED-TTL:P3D
REFRESH-INTERVAL:P3D
CALSCALE:GREGORIAN
BEGIN:VEVENT
DTSTART:20200511T170000Z
DTEND:20200511T180000Z
X-MICROSOFT-CDO-ALLDAYEVENT:FALSE
SUMMARY:Reopening Your Business:Market Research and Rebranding (Webinar)
DESCRIPTION:Reopening Your Business: Market Research & Rebranding (Webinar)\n\n\nYou may have attended many presentations on marketing but we\n\nwant to take a "step back" with thiswebinar and review the basics\n\nof market research\, why it is important\, and why business owners\n\nshould doit now before reopening. This webinar will cover how to\n\ndo market research to discover opportunities togrow your business\n\nand how to approach rebranding your business to reconnect with\n\ncustomers.\n\n \n\nPresenter: Meghan Lynch\, Six Point Creative\n\nBrought to you by the WesternMass Business Technical Assistance\n\nCollaboration: Center for Women and Enterprise\, Common Capital\, \n\nFranklin County CDC\, Massachusetts Small Business Development\n\nCenter\, SCORE of Western Mass\, and Valley CDC.\n\nInformation on how to join will be sent once registered. Please send\n\nquestions tolshedd@msbdc.umass.edu.\n \n\nClick Here to Register
X-ALT-DESC;FMTTYPE=text/html:<div id="content">\n<div class="contentpane" id="dnn_contentpane">\n<div class="DnnModule DnnModule-DNNArticle-ArticleView DnnModule-744">Reopening Your Business: Market Research &amp\; Rebranding (Webinar)\n<div id="dnn_ctr744_ContentPane">\n<div class="DNNModuleContent ModDNNArticleArticleViewC" id="dnn_ctr744_ModuleContent">\n<p>You may have attended many presentations on marketing but we<br />\nwant to take a &quot\;step back&quot\; with thiswebinar and review the basics<br />\nof market research\, why it is important\, and why business owners<br />\nshould doit now before reopening. This webinar will cover how to<br />\ndo market research to discover opportunities togrow your business<br />\nand how to approach rebranding your business to reconnect with<br />\ncustomers.<br />\n&nbsp\;</p>\n\n<p>Presenter: Meghan Lynch\, Six Point Creative</p>\n\n<p>Brought to you by the WesternMass Business Technical Assistance<br />\nCollaboration:&nbsp\;Center for Women and Enterprise\,&nbsp\;Common Capital\,&nbsp\;<br />\nFranklin County CDC\,&nbsp\;Massachusetts Small Business Development<br />\nCenter\,&nbsp\;SCORE of Western Mass\, and&nbsp\;Valley CDC.</p>\n\n<p>Information on how to join will be sent once registered. Please send<br />\nquestions tolshedd@msbdc.umass.edu.</p>\n&nbsp\;\n\n<p><a href="https://clients.msbdc.org/workshop.aspx?ekey=60400016">Click Here to Register</a></p>\n</div>\n</div>\n</div>\n</div>\n</div>\n
LOCATION:Online webinar. Link will be sent via email after you register.
UID:e.2559.1249
SEQUENCE:3
DTSTAMP:20260423T144247Z
URL:https://business.readingnreadingchamber.org/events/details/reopening-your-business-market-research-and-rebranding-webinar-1249
END:VEVENT

END:VCALENDAR
