BEGIN:VCALENDAR
VERSION:2.0
PRODID:-//ChamberMaster//Event Calendar 2.0//EN
METHOD:PUBLISH
X-PUBLISHED-TTL:P3D
REFRESH-INTERVAL:P3D
CALSCALE:GREGORIAN
BEGIN:VEVENT
DTSTART:20190918T220000Z
DTEND:20190919T000000Z
X-MICROSOFT-CDO-ALLDAYEVENT:FALSE
SUMMARY:Reimagine Reading Pop Up Pizza & Ice Cream Social
DESCRIPTION:Join the Town of Reading at a pop-up public event to help launch a downtown organization featuring local businesses\, free pizza\, ice cream\, photo booth and more.  Family-friendly\; all are welcome!
X-ALT-DESC;FMTTYPE=text/html:Join the Town of Reading at a&nbsp\;pop-up public event to help launch a downtown organization featuring local businesses\, free pizza\, ice cream\, photo booth and more.&nbsp\; Family-friendly\; all are welcome!
LOCATION:Pleasant Street Center 49 Pleasant Street
UID:e.2559.1208
SEQUENCE:3
DTSTAMP:20260424T024643Z
URL:https://business.readingnreadingchamber.org/events/details/reimagine-reading-pop-up-pizza-ice-cream-social-1208
END:VEVENT

END:VCALENDAR
