BEGIN:VCALENDAR
VERSION:2.0
PRODID:-//ChamberMaster//Event Calendar 2.0//EN
METHOD:PUBLISH
X-PUBLISHED-TTL:P3D
REFRESH-INTERVAL:P3D
CALSCALE:GREGORIAN
BEGIN:VEVENT
DTSTART:20190908T160000Z
DTEND:20190908T210000Z
X-MICROSOFT-CDO-ALLDAYEVENT:FALSE
SUMMARY:Reading Fall Street Faire
DESCRIPTION:The Reading Fall Street Faire is hosted by the Reading Rotary Club and is an annual community event bringing together local restaurants\, retail businesses and community groups for a fun-filled\, family-friendly day. With a children's area\, band and dance performances and numerous vendor and community group booths to visit\, there is something for everyone to enjoy.
X-ALT-DESC;FMTTYPE=text/html:<span style="color:#000000\;"><span style="font-size:12px\;"><span style="font-family: &quot\;Open Sans&quot\;\, Helvetica\, Arial\, sans-serif\; text-align: center\; background-color: rgb(4\, 94\, 170)\;">The Reading Fall Street Faire is hosted by the Reading Rotary Club and&nbsp\;is an annual community event bringing together local restaurants\, retail businesses and community groups for a fun-filled\, family-friendly day. With a children&rsquo\;s area\, band and dance performances and numerous vendor and community group booths to visit\, there is something for everyone to enjoy.</span></span></span>
LOCATION:This event is hosted by the Reading Rotary. Registration and Details are found online.
UID:e.2559.1198
SEQUENCE:3
DTSTAMP:20260424T024433Z
URL:https://business.readingnreadingchamber.org/events/details/reading-fall-street-faire-1198
END:VEVENT

END:VCALENDAR
