BEGIN:VCALENDAR
VERSION:2.0
PRODID:-//ChamberMaster//Event Calendar 2.0//EN
METHOD:PUBLISH
X-PUBLISHED-TTL:P3D
REFRESH-INTERVAL:P3D
CALSCALE:GREGORIAN
BEGIN:VEVENT
DTSTART:20191023T223000Z
DTEND:20191024T000000Z
X-MICROSOFT-CDO-ALLDAYEVENT:FALSE
SUMMARY:Reading Economic Development Forum
DESCRIPTION:3rd Annual Economic Development Summit\n\nRe-Imagining the Eastern Gateway\n\nJoin us for an opening presentation and community conversation about what might be possible!
X-ALT-DESC;FMTTYPE=text/html:3rd Annual Economic Development Summit<br />\nRe-Imagining the Eastern Gateway<br />\nJoin us for an opening presentation and community conversation about what might be possible!
LOCATION:Reading Public Library October 23\, 2019 6:30-9pm
UID:e.2559.1214
SEQUENCE:3
DTSTAMP:20260424T012035Z
URL:https://business.readingnreadingchamber.org/events/details/reading-economic-development-forum-1214
END:VEVENT

END:VCALENDAR
