BEGIN:VCALENDAR
VERSION:2.0
PRODID:-//ChamberMaster//Event Calendar 2.0//EN
METHOD:PUBLISH
X-PUBLISHED-TTL:P3D
REFRESH-INTERVAL:P3D
CALSCALE:GREGORIAN
BEGIN:VEVENT
DTSTART:20181017T230000Z
DTEND:20181018T010000Z
X-MICROSOFT-CDO-ALLDAYEVENT:FALSE
SUMMARY:Reading Community Meeting on Economic Development
DESCRIPTION:All are invited to attend this interactive Community Discussion!  Learn about Downtown Projects including:\n\n2018 Parking Study\n\n Wayfinding and Downtown Signage \n\n Development Project Updates
X-ALT-DESC;FMTTYPE=text/html:All are invited to attend this interactive Community Discussion!&nbsp\; Learn about Downtown Projects including:<br />\n2018 Parking Study<br />\n&#8203\;Wayfinding and Downtown Signage&nbsp\;<br />\n&#8203\;Development Project Updates<br />\n&nbsp\;
LOCATION:Reading Public Library 64 Middlesex Avenue Reading\, MA 01867
UID:e.2559.1143
SEQUENCE:3
DTSTAMP:20260424T185253Z
URL:https://business.readingnreadingchamber.org/events/details/reading-community-meeting-on-economic-development-1143
END:VEVENT

END:VCALENDAR
