BEGIN:VCALENDAR
VERSION:2.0
PRODID:-//ChamberMaster//Event Calendar 2.0//EN
METHOD:PUBLISH
X-PUBLISHED-TTL:P3D
REFRESH-INTERVAL:P3D
CALSCALE:GREGORIAN
BEGIN:VEVENT
DTSTART:20240217T150000Z
DTEND:20240217T210000Z
X-MICROSOFT-CDO-ALLDAYEVENT:FALSE
SUMMARY:Rare’s Climate Culture Boston to Host Pop-Up Exhibition at Peabody Essex Museum as Part of “Our Time on Earth” Opening Day
DESCRIPTION:As part of the grand opening celebration of the "Our Time on Earth" exhibition at the Peabody Essex Museum (PEM)\, Rare's Climate Culture Boston\, an international conservation organization specializing in social change for the environment\, will be hosting a pop-up exhibition titled "Changing the Climate Culture." Featuring interactive displays that harness behavioral science\, visitors will be guided toward adopting key behaviors related to food choices\, energy consumption\, transportation and support of the natural world.  Visitors to the Our Time on Earth exhibition are invited to participate in an interactive photo stream by sharing a photo with their message of hope for climate positive behaviors on social media using the hashtag #OurTimeOnEarth. This attendee created photo stream will be featured at the museum and on PEM's and Rare's website throughout the duration of the Our Time on Earth exhibition.
X-ALT-DESC;FMTTYPE=text/html:As part of the grand opening celebration of the &ldquo\;Our Time on Earth&rdquo\; exhibition at the Peabody Essex Museum (PEM)\, Rare&rsquo\;s Climate Culture Boston\, an international conservation organization specializing in social change for the environment\, will be hosting a pop-up exhibition titled &ldquo\;Changing the Climate Culture.&rdquo\; Featuring interactive displays that harness behavioral science\, visitors will be guided toward adopting key behaviors related to food choices\, energy consumption\, transportation and support of the natural world.&nbsp\; Visitors to the Our Time on Earth exhibition are invited to participate in an interactive photo stream by sharing a photo with their message of hope for climate positive behaviors on social media using the hashtag #OurTimeOnEarth. This attendee created photo stream will be featured at the museum and on PEM&rsquo\;s and Rare&rsquo\;s website throughout the duration of the Our Time on Earth exhibition.&nbsp\;
LOCATION:Peabody Essex Museum 161 Essex Street Salem\, MA 01970
UID:e.2559.1596
SEQUENCE:3
DTSTAMP:20260420T055837Z
URL:https://business.readingnreadingchamber.org/events/details/rare-s-climate-culture-boston-to-host-pop-up-exhibition-at-peabody-essex-museum-as-part-of-our-time-on-earth-opening-day-1596
END:VEVENT

END:VCALENDAR
