BEGIN:VCALENDAR
VERSION:2.0
PRODID:-//ChamberMaster//Event Calendar 2.0//EN
METHOD:PUBLISH
X-PUBLISHED-TTL:P3D
REFRESH-INTERVAL:P3D
CALSCALE:GREGORIAN
BEGIN:VEVENT
DTSTART;VALUE=DATE:20190921
DTEND;VALUE=DATE:20190922
TRANSP:TRANSPARENT
X-MICROSOFT-CDO-ALLDAYEVENT:TRUE
SUMMARY:Peter Milano\, Senior Director MA Business Development
DESCRIPTION:Members are invited to schedule a 30 minute consultation with Peter Milano\, Senior Director\, State of MA Business Development. Only 4 spots are availalble on a first-come\, first served basis.
X-ALT-DESC;FMTTYPE=text/html:Members are invited to schedule a 30 minute consultation with Peter Milano\, Senior Director\, State of MA Business Development. Only 4 spots are availalble on a first-come\, first served basis.&nbsp\;&nbsp\;
LOCATION:Community Room Northern Bank 600 Main Street Reading\, MA 01867
UID:e.2559.1213
SEQUENCE:3
DTSTAMP:20260424T041239Z
URL:https://business.readingnreadingchamber.org/events/details/peter-milano-senior-director-ma-business-development-1213
END:VEVENT

END:VCALENDAR
