BEGIN:VCALENDAR
VERSION:2.0
PRODID:-//ChamberMaster//Event Calendar 2.0//EN
METHOD:PUBLISH
X-PUBLISHED-TTL:P3D
REFRESH-INTERVAL:P3D
CALSCALE:GREGORIAN
BEGIN:VEVENT
DTSTART:20200610T160000Z
DTEND:20200610T170000Z
X-MICROSOFT-CDO-ALLDAYEVENT:FALSE
SUMMARY:Paycheck Protection Program (PPP) Loan Terms Updated
DESCRIPTION:Presented by: Elizabeth Milito\, Senior Executive Counsel\, Legal Foundation\, NFIB\, Holly Wade Director\, NFIB Research Center.  Program offered by National Federation of Independent Businesses (NFIB)
X-ALT-DESC;FMTTYPE=text/html:<table border="0" cellpadding="0" cellspacing="0" style="width:100.0%\;border-collapse:collapse\;" width="100%">\n	<tbody>\n		<tr>\n			<td style="padding:0in 7.5pt 0in 0in\;"><strong><span style="color:black\;"><span style="font-family:helvetica\,sans-serif\;"><span style="font-size:12.0pt\;">Presented by</span></span></span></strong><span style="color:black\;"><span style="font-family:helvetica\,sans-serif\;"><span style="font-size:12.0pt\;">: Elizabeth Milito\, Senior Executive Counsel\, Legal Foundation\, NFIB\, Holly Wade Director\, NFIB Research Center.&nbsp\; Program offered by National Federation of Independent Businesses (NFIB)</span></span></span></td>\n		</tr>\n	</tbody>\n</table>\n
LOCATION:Great news! Thanks to action by Congress on June 3\, small business owners now have more flexibility in using their PPP loan. NFIB's upcoming webinar will focus on the new Paycheck Protection Flexibility Act H.R. 7010 and what it means for your business. The new PPP law: Lengthens the loan forgiveness period from eight weeks to 24 weeks. Lowers the amount of PPP funds that must be spent on payroll from 75% to 60% and allows 40% for other qualifying expenses. Delays employer payroll tax payments through the end of 2020. Exempts borrowers from the FTE loan forgiveness reduction if borrowers are unable to return to the same level of business activity as before Feb. 15th due to Covid-19. Please join Holly Wade\, Director\, NFIB Research & Policy Analysis\, and Beth Milito\, Senior Executive Counsel\, on June 10 for their weekly webinar where they will focus on dramatic changes to the PPP loan program and also discuss other resources available to help small businesses navigate Covid-19. As small businesses continue to face complex challenges relating to their business operations and managing employees\, NFIB remains committed to helping owners navigate this crisis and providing updated information on financial resources\, handling unemployment insurance challenges\, and managing workplace health and safety issues as businesses reopen. Submit your questions to Holly and Beth in advance by emailing info@nfib.org
UID:e.2559.1260
SEQUENCE:3
DTSTAMP:20260423T130322Z
URL:https://business.readingnreadingchamber.org/events/details/paycheck-protection-program-ppp-loan-terms-updated-1260
END:VEVENT

END:VCALENDAR
