BEGIN:VCALENDAR
VERSION:2.0
PRODID:-//ChamberMaster//Event Calendar 2.0//EN
METHOD:PUBLISH
X-PUBLISHED-TTL:P3D
REFRESH-INTERVAL:P3D
CALSCALE:GREGORIAN
BEGIN:VEVENT
DTSTART:20190914T140000Z
DTEND:20190914T180000Z
X-MICROSOFT-CDO-ALLDAYEVENT:FALSE
SUMMARY:Open House at The New England School of Performing Arts
DESCRIPTION:Come check out their new space and enjoy demo acting classes all day\, art room projects and light refreshments.  Stop by and see what's new at The New England School of Performing Arts.
X-ALT-DESC;FMTTYPE=text/html:<div style="text-align: center\;"><span style="font-size: 12pt\; font-family: Helvetica\, sans-serif\;">Come check out their new space and enjoy demo acting classes all day\, art room projects and light refreshments.&nbsp\; Stop by and see what&#39\;s new at The New England School of Performing Arts.</span></div>\n\n<div style="text-align: center\;">&nbsp\;</div>\n\n<div style="text-align: center\;">&nbsp\;</div>\n\n<div style="text-align: center\;">&nbsp\;</div>\n\n<div style="text-align: center\;">&nbsp\;</div>\n
LOCATION:The New England School of Performing Arts 55 Concord Street North Reading\, MA 01864
UID:e.2559.1202
SEQUENCE:3
DTSTAMP:20260424T024930Z
URL:https://business.readingnreadingchamber.org/events/details/open-house-at-the-new-england-school-of-performing-arts-1202
END:VEVENT

END:VCALENDAR
