BEGIN:VCALENDAR
VERSION:2.0
PRODID:-//ChamberMaster//Event Calendar 2.0//EN
METHOD:PUBLISH
X-PUBLISHED-TTL:P3D
REFRESH-INTERVAL:P3D
CALSCALE:GREGORIAN
BEGIN:VEVENT
DTSTART:20200116T143000Z
DTEND:20200116T163000Z
X-MICROSOFT-CDO-ALLDAYEVENT:FALSE
SUMMARY:Open House and Ribbon Cutting
DESCRIPTION:Come meet the owners and check out the amazing selection of gluten free and health foods at the Natural Food Exchange and Nutrition in Motion.  Open house from 9:30 - 11:30 AM\; ribbon cutting and photo at 9:45.  \n\nNutrition in motion offers registered dietitians that provide nutrition counseling for meal planning\, weight management\, digestive disorders\, food allergies\, and chronic disease. They offer metabolism testing and body composition analysis. Most insurance carriers are accepted. At the open house there will be a Tanita body composition machine that people can try at no cost.
X-ALT-DESC;FMTTYPE=text/html:Come meet the owners and check out the amazing selection of gluten free and health foods at the Natural Food Exchange and Nutrition in Motion.&nbsp\; Open house from 9:30 - 11:30 AM\; ribbon cutting and photo at 9:45.&nbsp\;&nbsp\;<br />\nNutrition in motion offers registered dietitians that provide nutrition&nbsp\;counseling for meal planning\, weight management\, digestive disorders\,&nbsp\;food allergies\, and chronic disease. They offer metabolism testing and body composition analysis. Most insurance&nbsp\;carriers are accepted. At the open house there will be a&nbsp\;Tanita body composition machine that people can try at no cost.<br />\n&nbsp\;
LOCATION:The Natural Food Exchange 343 Main Street Reading\, MA 01867
UID:e.2559.1225
SEQUENCE:3
DTSTAMP:20260423T204106Z
URL:https://business.readingnreadingchamber.org/events/details/open-house-and-ribbon-cutting-1225
END:VEVENT

END:VCALENDAR
