BEGIN:VCALENDAR
VERSION:2.0
PRODID:-//ChamberMaster//Event Calendar 2.0//EN
METHOD:PUBLISH
X-PUBLISHED-TTL:P3D
REFRESH-INTERVAL:P3D
CALSCALE:GREGORIAN
BEGIN:VEVENT
DTSTART:20191022T213000Z
DTEND:20191022T233000Z
X-MICROSOFT-CDO-ALLDAYEVENT:FALSE
SUMMARY:October After Hours at Northern Bank
DESCRIPTION:Join local businesses and expand your network with B2B Business Card exchange and mingling at our October After Hours. This special evening features complimentary refreshments\, catered appetizers and a performance by NOTEtorios Acapella Group. You won't want to miss it!\n\n \n\nKindly register in advance to allow proper planning.
X-ALT-DESC;FMTTYPE=text/html:<div style="color: rgb(17\, 17\, 17)\; font-family: Arial\, Verdana\, Helvetica\, sans-serif\; font-size: 14px\; white-space: pre-wrap\; background-color: rgb(243\, 243\, 243)\;">Join local businesses and expand your network with B2B Business Card exchange and mingling at our October After Hours. This special evening features complimentary refreshments\, catered appetizers and a performance by NOTEtorios Acapella Group. You won&#39\;t want to miss it!</div>\n\n<div style="color: rgb(17\, 17\, 17)\; font-family: Arial\, Verdana\, Helvetica\, sans-serif\; font-size: 14px\; white-space: pre-wrap\; background-color: rgb(243\, 243\, 243)\;">&nbsp\;</div>\n\n<div style="color: rgb(17\, 17\, 17)\; font-family: Arial\, Verdana\, Helvetica\, sans-serif\; font-size: 14px\; white-space: pre-wrap\; background-color: rgb(243\, 243\, 243)\;">Kindly register in advance to allow proper planning.</div>\n
LOCATION:Northern Bank & Trust 600 Main Street Reading\, MA
UID:e.2559.1206
SEQUENCE:3
DTSTAMP:20260424T024601Z
URL:https://business.readingnreadingchamber.org/events/details/october-after-hours-at-northern-bank-1206
END:VEVENT

END:VCALENDAR
