BEGIN:VCALENDAR
VERSION:2.0
PRODID:-//ChamberMaster//Event Calendar 2.0//EN
METHOD:PUBLISH
X-PUBLISHED-TTL:P3D
REFRESH-INTERVAL:P3D
CALSCALE:GREGORIAN
BEGIN:VEVENT
DTSTART:20191114T223000Z
DTEND:20191115T003000Z
X-MICROSOFT-CDO-ALLDAYEVENT:FALSE
SUMMARY:November After-Hours at Pamplemousse
DESCRIPTION:Join us at our November After-Hours featuring tastings\, appetizers and conversation.  Check out the amazing selection of cooking gear\, snacks\, dips and spirits at Pamplemousse\, a locally owned gem on Haven Street
X-ALT-DESC;FMTTYPE=text/html:Join us at our November After-Hours featuring tastings\, appetizers and conversation.&nbsp\; Check out the amazing selection of cooking gear\, snacks\, dips and spirits at Pamplemousse\, a locally owned gem on Haven Street&nbsp\;&nbsp\;&nbsp\;&nbsp\;&nbsp\;&nbsp\;&nbsp\;&nbsp\;
LOCATION:Pamplemousse 26 Haven Street Reading\, MA
UID:e.2559.1200
SEQUENCE:3
DTSTAMP:20260423T234324Z
URL:https://business.readingnreadingchamber.org/events/details/november-after-hours-at-pamplemousse-1200
END:VEVENT

END:VCALENDAR
