BEGIN:VCALENDAR
VERSION:2.0
PRODID:-//ChamberMaster//Event Calendar 2.0//EN
METHOD:PUBLISH
X-PUBLISHED-TTL:P3D
REFRESH-INTERVAL:P3D
CALSCALE:GREGORIAN
BEGIN:VEVENT
DTSTART:20190530T153000Z
DTEND:20190530T170000Z
X-MICROSOFT-CDO-ALLDAYEVENT:FALSE
SUMMARY:North Reading Town Update Luncheon with Town Administrator
DESCRIPTION:Enjoy lunch and hear about the outlook for North Reading in the coming year. Mike Gilleberto\, Town Administrator  will deliver an update on  key development areas\, construction progress and field questions from North Reading business owners.  Enjoy networking and connecting with local decision makers.
X-ALT-DESC;FMTTYPE=text/html:Enjoy lunch and hear about the outlook for North Reading in the coming year. Mike Gilleberto\, Town Administrator&nbsp\; will deliver an update on&nbsp\; key development areas\, construction progress and field questions from North Reading business owners. &nbsp\;Enjoy networking and connecting with local decision makers.
LOCATION:
UID:e.2559.1185
SEQUENCE:3
DTSTAMP:20260424T102232Z
URL:https://business.readingnreadingchamber.org/events/details/north-reading-town-update-luncheon-with-town-administrator-1185
END:VEVENT

END:VCALENDAR
