BEGIN:VCALENDAR
VERSION:2.0
PRODID:-//ChamberMaster//Event Calendar 2.0//EN
METHOD:PUBLISH
X-PUBLISHED-TTL:P3D
REFRESH-INTERVAL:P3D
CALSCALE:GREGORIAN
BEGIN:VEVENT
DTSTART:20211128T160000Z
DTEND:20211128T180000Z
X-MICROSOFT-CDO-ALLDAYEVENT:FALSE
SUMMARY:North Reading Santa's Holiday Tour
DESCRIPTION:Due to COVID we are not hosting our traditional tree lighting event.  Instead we are hosting Santa's Holiday Tour\, a neighborhood parade that will wind through North Reading neighborhoods on Sunday\, Nov 28th from 11am - 1 pm.  Ttour details and route will be posted soon.  We will light the lights on the common as usual\, but there will not be an event at the common due to the Delta variant.
X-ALT-DESC;FMTTYPE=text/html:<span style="font-size:14px\;"><span style="font-family:times new roman\;">Due to COVID we are not hosting our traditional tree lighting event.&nbsp\; Instead we are hosting Santa&#39\;s Holiday Tour\, a neighborhood parade that will wind through North Reading neighborhoods on Sunday\, Nov 28th from 11am - 1 pm.&nbsp\; Ttour details and route will be posted soon.&nbsp\; We will light the lights on the common as usual\, but there will not be an event at the common due to the Delta variant.</span></span><br />\n&nbsp\;
LOCATION:Santa's tour route will be posted soon.
UID:e.2559.1325
SEQUENCE:3
DTSTAMP:20260421T014334Z
URL:https://business.readingnreadingchamber.org/events/details/north-reading-santa-s-holiday-tour-1325
END:VEVENT

END:VCALENDAR
