BEGIN:VCALENDAR
VERSION:2.0
PRODID:-//ChamberMaster//Event Calendar 2.0//EN
METHOD:PUBLISH
X-PUBLISHED-TTL:P3D
REFRESH-INTERVAL:P3D
CALSCALE:GREGORIAN
BEGIN:VEVENT
DTSTART:20180926T223000Z
DTEND:20180927T003000Z
X-MICROSOFT-CDO-ALLDAYEVENT:FALSE
SUMMARY:North Reading Master Plan - Public Workshop
DESCRIPTION:The Town of North Reading is creating a Master Plan for the next ten years in order to shape how certain parts of the Town will grow\, be improved\, and/or preserved. \n\nAs part of the master planning process\, the Town and its consultant (MAPC) will be conducting public workshops in the fall. \n\n \n\nPlease take a moment to provide us feedback through this online survey on how you would like to shape the Town moving forward.\n\n \n\ntake the survey \n\nSurvey Link:   www.mapc.ma/NRMP2028 \n\n        \n\nmark your calendars\n\nFirst public Workshop                                      \n\nSeptember 26: Wednesday from 6:30pm to 8:30pm \n\nNorth Reading High School\, 189 Park Street \n\n \n\nSecond-and-Final public Workshop\n\nTuesday\, October 30 from 6:30pm to 8:30pm\n\nNorth Reading High School\, 189 Park Street \n\n                                   \n\nshare survey and poster \n\nPlease share the following links with friends\, family\, neighbors and other community members.\n\nSurvey Link:          www.mapc.ma/NRMP2028\n\nPoster Link:           www.mapc.ma/posterNRMP
X-ALT-DESC;FMTTYPE=text/html:<span style="font-family:tw cen mt\,sans-serif\;"><span style="font-size:14.0pt\;">The <strong>Town of North Reading</strong> is creating a <strong>Master Plan</strong> for the next ten years in order to shape how certain parts of the Town will grow\, be improved\, and/or preserved. </span></span><br />\n<span style="font-family:tw cen mt\,sans-serif\;"><span style="font-size:14.0pt\;">As part of the master planning process\, the Town and its consultant (MAPC) will be conducting public workshops in the fall. </span></span><br />\n&nbsp\;<br />\n<span style="font-family:tw cen mt\,sans-serif\;"><span style="font-size:14.0pt\;">Please take a moment to provide us feedback through this <strong>online survey</strong> on how you would like to shape the Town moving forward.</span></span><br />\n&nbsp\;<br />\n<strong><em><span style="color:#00B0F0\;"><span style="font-family:book antiqua\,serif\;"><span style="font-size:20.0pt\;">take the survey </span></span></span></em></strong><br />\n<strong><span style="font-family:tw cen mt\,sans-serif\;"><span style="font-size:14.0pt\;">Survey Link<span style="text-transform:uppercase\;">:</span></span></span></strong><span style="font-family:tw cen mt\,sans-serif\;"><span style="font-size:14.0pt\;">&nbsp\;&nbsp\; <a href="http://www.mapc.ma/NRMP2028"><span style="color:windowtext\;">www.mapc.ma/NRMP2028</span></a> </span></span><br />\n&nbsp\;&nbsp\;&nbsp\;&nbsp\;&nbsp\;&nbsp\;&nbsp\;&nbsp\;<br />\n<strong><em><span style="color:#00B0F0\;"><span style="font-family:book antiqua\,serif\;"><span style="font-size:20.0pt\;">mark your calendars</span></span></span></em></strong><br />\n<strong><span style="text-transform:uppercase\;"><span style="font-family:tw cen mt\,sans-serif\;"><span style="font-size:14.0pt\;">First public Workshop</span></span></span></strong>&nbsp\;&nbsp\; &nbsp\;&nbsp\;&nbsp\;&nbsp\;&nbsp\;&nbsp\;&nbsp\;&nbsp\;&nbsp\;&nbsp\;&nbsp\;&nbsp\;&nbsp\;&nbsp\;&nbsp\;&nbsp\;&nbsp\;&nbsp\;&nbsp\;&nbsp\;&nbsp\;&nbsp\;&nbsp\;&nbsp\;&nbsp\;&nbsp\;&nbsp\;&nbsp\;&nbsp\;&nbsp\;&nbsp\;&nbsp\;&nbsp\;&nbsp\;&nbsp\;<br />\n<span style="font-family:tw cen mt\,sans-serif\;"><span style="font-size:14.0pt\;">September 26: Wednesday from 6:30pm to 8:30pm </span></span><br />\n<span style="font-family:tw cen mt\,sans-serif\;"><span style="font-size:14.0pt\;">North Reading High School\, 189 Park Street </span></span><br />\n&nbsp\;<br />\n<strong><span style="text-transform:uppercase\;"><span style="font-family:tw cen mt\,sans-serif\;"><span style="font-size:14.0pt\;">Second-and-Final public Workshop</span></span></span></strong><br />\n<span style="font-family:tw cen mt\,sans-serif\;"><span style="font-size:14.0pt\;">Tuesday\, October 30 from 6:30pm to 8:30pm</span></span><br />\n<span style="font-family:tw cen mt\,sans-serif\;"><span style="font-size:14.0pt\;">North Reading High School\, 189 Park Street </span></span><br />\n&nbsp\;&nbsp\;&nbsp\;&nbsp\;&nbsp\;&nbsp\;&nbsp\;&nbsp\;&nbsp\;&nbsp\;&nbsp\;&nbsp\;&nbsp\;&nbsp\;&nbsp\;&nbsp\;&nbsp\;&nbsp\;&nbsp\;&nbsp\;&nbsp\;&nbsp\;&nbsp\;&nbsp\;&nbsp\;&nbsp\;&nbsp\;&nbsp\;&nbsp\;&nbsp\;&nbsp\;&nbsp\;&nbsp\;&nbsp\;&nbsp\;<br />\n<strong><em><span style="color:#00B0F0\;"><span style="font-family:book antiqua\,serif\;"><span style="font-size:20.0pt\;">share survey and poster </span></span></span></em></strong><br />\n<span style="font-family:tw cen mt\,sans-serif\;"><span style="font-size:14.0pt\;">Please share the following links with friends\, family\, neighbors and other community members.</span></span><br />\n<strong><span style="font-family:tw cen mt\,sans-serif\;"><span style="font-size:14.0pt\;">Survey Link<span style="text-transform:uppercase\;">:</span></span></span></strong>&nbsp\;&nbsp\; &nbsp\;&nbsp\;&nbsp\;&nbsp\;&nbsp\;&nbsp\; <span style="font-family:tw cen mt\,sans-serif\;"><span style="font-size:14.0pt\;"><a href="http://www.mapc.ma/NRMP2028"><span style="color:windowtext\;">www.mapc.ma/NRMP2028</span></a></span></span><br />\n<strong><span style="font-family:tw cen mt\,sans-serif\;"><span style="font-size:14.0pt\;">Poster Link:</span></span></strong><span style="font-family:tw cen mt\,sans-serif\;"><span style="font-size:14.0pt\;">&nbsp\;&nbsp\; &nbsp\;&nbsp\;&nbsp\;&nbsp\;&nbsp\;&nbsp\;&nbsp\; <a href="http://www.mapc.ma/posterNRMP"><span style="color:windowtext\;">www.mapc.ma/posterNRMP</span></a> &nbsp\;</span></span><br />\n&nbsp\;<br />\n&nbsp\;
LOCATION:North Reading High School 189 Park Street North Reading
UID:e.2559.1146
SEQUENCE:3
DTSTAMP:20260424T200533Z
URL:https://business.readingnreadingchamber.org/events/details/north-reading-master-plan-public-workshop-1146
END:VEVENT

END:VCALENDAR
