BEGIN:VCALENDAR
VERSION:2.0
PRODID:-//ChamberMaster//Event Calendar 2.0//EN
METHOD:PUBLISH
X-PUBLISHED-TTL:P3D
REFRESH-INTERVAL:P3D
CALSCALE:GREGORIAN
BEGIN:VEVENT
DTSTART:20191201T193000Z
DTEND:20191201T213000Z
X-MICROSOFT-CDO-ALLDAYEVENT:FALSE
SUMMARY:North Reading Holiday Tree Lighting Celebration Hosted by the Reading-North Reading Chamber of Commerce and our Platinum Sponsor Austin Preparatory School
DESCRIPTION:Join Us for a great family event  to ring in the Holiday  season!\n\n \n\nYou will enjoy:\n\nLive entertainment\n\nLive performances\n\nA Balloon Twister\n\nHay Rides\n\nGreat food\n\nFree pictures with Santa at Reading Cooperative Bank on Park Street\n\nTree lighting by Santa\n\n\n\nPark at the Batchelder Elementary School located at 175 Park Street and take the trolley to the event!\n\n \n\n\n\nDid you know the Chamber not only plans the events\, but pays for the \n\nelectrical work and all expenses for the celebrations?  \n\n\n\nWe offer this event to the community free of charge thanks to our \n\ngenerous sponsors.
X-ALT-DESC;FMTTYPE=text/html:<span style="font-family:verdana\;"><span style="font-size:12px\;"><span style="font-weight:bold\;language:en-US\;"><span style="color:#C00000\;">Join Us for a great family event&nbsp\; to ring in the Holiday&nbsp\; season!</span></span><br />\n&nbsp\;</span></span><br />\n<span style="color:#006400\;"><span style="font-size:14px\;"><span style="font-weight:bold\;language:en-US\;">You will enjoy</span>:<br />\n<span style="font-weight:bold\;language:en-US\;">Live entertainment</span><br />\n<span style="font-weight:bold\;language:en-US\;">Live performances</span><br />\n<span style="font-weight:bold\;language:en-US\;">A Balloon Twister<br />\nHay Rides</span><br />\n<span style="font-weight:bold\;language:en-US\;">Great food</span><br />\n<strong><span style="font-weight:bold\;language:en-US\;">Free pictures with Santa</span> at Reading Cooperative Bank on Park Street<br />\n<span style="font-weight:bold\;language:en-US\;">Tree lighting</span> by Santa<br />\n<br />\nPark at the Batchelder Elementary School located at 175 Park Street and take the trolley to the event!<br />\n&nbsp\;</strong></span><br />\n<br />\n<span style="font-family:verdana\;"><span style="font-size:12px\;"><span style="font-weight:bold\;language:en-US\;">Did you know the Chamber not only plans the events\, but pays for the </span><br />\n<span style="font-weight:bold\;language:en-US\;">electrical work and all expenses for the celebrations?&nbsp\; </span><br />\n<br />\n<span style="font-weight:bold\;language:en-US\;">We offer this event to the community free of charge thanks to our </span><br />\n<span style="font-weight:bold\;language:en-US\;">generous sponsors. &nbsp\; </span></span></span></span><br />\n<br />\n&nbsp\;
LOCATION:Town Common North Reading\, MA
UID:e.2559.1179
SEQUENCE:3
DTSTAMP:20260423T220953Z
URL:https://business.readingnreadingchamber.org/events/details/north-reading-holiday-tree-lighting-celebration-hosted-by-the-reading-north-reading-chamber-of-commerce-and-our-platinum-sponsor-austin-preparatory-school-1179
END:VEVENT

END:VCALENDAR
