BEGIN:VCALENDAR
VERSION:2.0
PRODID:-//ChamberMaster//Event Calendar 2.0//EN
METHOD:PUBLISH
X-PUBLISHED-TTL:P3D
REFRESH-INTERVAL:P3D
CALSCALE:GREGORIAN
BEGIN:VEVENT
DTSTART:20181125T193000Z
DTEND:20181125T213000Z
X-MICROSOFT-CDO-ALLDAYEVENT:FALSE
SUMMARY:North Reading Annual Holiday Tree Lighting
DESCRIPTION:Join Us for a great family event  to ring in the Holiday  season!\n\n \n\nYou will enjoy\n\nLive entertainment\n\nLive performances\n\nFun activities for the kids\n\nGreat food\n\nFree pictures with Santa\n\nTree lighting\n\n \n\nDid you know the Chamber not only plans the events\, but pays for the \n\nelectrical work and all expenses for the celebrations?  \n\n\n\nWould you like to get involved?  You can reach us at:\n\ninfo@rnrchamber.com\n\n\n\nWe offer this event to the community free of charge thanks to our \n\ngenerous sponsors.   \n\n\n\nSponsors please register by clicking above\n\nSpecial Sponsor Notes:\n\n\n\n*All Sponsors and donors must submit paperwork\, with payment\, by November 8th to be included in event media.\n\n\n\n*Current Chamber members will receive 5% off of sponsorship costs if payment is received by November 25th.\n\n\n\n* All sponsors to provide their own banners\, except where noted.  Banners should be brought to Reading Cooperative Bank\, 170 Park Street\, North Reading by November 20th.\n\n**Per town ordinance\, the maximum banner size allowable is 3' x 5'.
X-ALT-DESC;FMTTYPE=text/html:<span style="font-family:verdana\;"><span style="font-size:12px\;"><span style="font-weight:bold\;language:en-US\;"><span style="color:#C00000\;">Join Us for a great family event&nbsp\; to ring in the Holiday&nbsp\; season!</span></span><br />\n&nbsp\;<br />\n<span style="font-weight:bold\;language:en-US\;"><span style="color:#006600\;">You will enjoy</span></span><br />\n<span style="font-weight:bold\;language:en-US\;"><span style="color:#006600\;">Live entertainment</span></span><br />\n<span style="font-weight:bold\;language:en-US\;"><span style="color:#006600\;">Live performances</span></span><br />\n<span style="font-weight:bold\;language:en-US\;"><span style="color:#006600\;">Fun activities for the kids</span></span><br />\n<span style="font-weight:bold\;language:en-US\;"><span style="color:#006600\;">Great food</span></span><br />\n<span style="font-weight:bold\;language:en-US\;"><span style="color:#006600\;">Free pictures with Santa</span></span><br />\n<span style="font-weight:bold\;language:en-US\;"><span style="color:#006600\;">Tree lighting</span></span><br />\n&nbsp\;<br />\n<span style="font-weight:bold\;language:en-US\;"><span style="color:#006600\;">Did you know the Chamber not only plans the events\, but pays for the </span></span><br />\n<span style="font-weight:bold\;language:en-US\;"><span style="color:#006600\;">electrical work and all expenses for the celebrations?&nbsp\; </span></span><br />\n<br />\n<span style="font-weight:bold\;language:en-US\;"><span style="color:#C00000\;">Would you like to get involved?&nbsp\; You can reach us at:</span></span><br />\n<span style="font-weight:bold\;language:en-US\;"><span style="color:#C00000\;">info@rnrchamber.com</span></span><br />\n<br />\n<span style="font-weight:bold\;language:en-US\;"><span style="color:#006600\;">We offer this event to the community free of charge thanks to our </span></span><br />\n<span style="font-weight:bold\;language:en-US\;"><span style="color:#006600\;">generous sponsors. &nbsp\; </span></span><br />\n<br />\n<strong>Sponsors please register by clicking above<br />\nSpecial Sponsor Notes:</strong><br />\n<br />\n*All Sponsors and donors must submit paperwork\, with payment\, by November 8th to be included in event media.<br />\n<br />\n*Current Chamber members will receive 5% off of sponsorship costs if payment is received by November 25th.<br />\n<br />\n* All sponsors to provide their own banners\, except where noted.&nbsp\; Banners should be brought to Reading Cooperative Bank\, 170 Park Street\, North Reading by November 20th.<br />\n<span style="color:#FF0000\;"><span style="font-size:16px\;">**Per town ordinance\, the maximum banner size allowable is 3&#39\; x 5&#39\;.</span></span><br />\n<br />\n&nbsp\;</span></span>
LOCATION:Town Common North Reading\, MA
UID:e.2559.101
SEQUENCE:3
DTSTAMP:20260424T184641Z
URL:https://business.readingnreadingchamber.org/events/details/north-reading-annual-holiday-tree-lighting-101
END:VEVENT

END:VCALENDAR
