BEGIN:VCALENDAR
VERSION:2.0
PRODID:-//ChamberMaster//Event Calendar 2.0//EN
METHOD:PUBLISH
X-PUBLISHED-TTL:P3D
REFRESH-INTERVAL:P3D
CALSCALE:GREGORIAN
BEGIN:VEVENT
DTSTART:20200625T153000Z
DTEND:20200625T163000Z
X-MICROSOFT-CDO-ALLDAYEVENT:FALSE
SUMMARY:Next Phase: Data Security and Human Research Management Concerns
DESCRIPTION:As decisions continue to be made about whether to return back to offices or extend remote\n\nwork\, it is important to consider how it will impact human resource management and information\n\nsecurity concerns.\n\n \n\nCMIT Solutions will be hosting a webinar on this topic on Thursday\, June 25 at 11:30 a.m. EST. You will hear from Emory Simmons\, owner of CMIT Solutions of Metrolina\, and Kit M. Foreman\, owner of Strategic Performance Solutions\, on how to handle human resource and data security issues in this next phase that we're entering.
X-ALT-DESC;FMTTYPE=text/html:<strong><span style="font-family:calibri light\,sans-serif\;">As decisions continue to be made about whether to return back to offices or extend remote</span></strong><br />\n<strong><span style="font-family:calibri light\,sans-serif\;">work\, it is important to consider how it will impact human resource management and information</span></strong><br />\n<strong><span style="font-family:calibri light\,sans-serif\;">security concerns.</span></strong><br />\n&nbsp\;<br />\n<strong><span style="font-family:calibri light\,sans-serif\;">CMIT Solutions will be hosting a webinar on this topic on Thursday\, June 25 at 11:30 a.m. EST. You will hear from Emory Simmons\, owner of CMIT Solutions of Metrolina\, and Kit M. Foreman\, owner of Strategic Performance Solutions\, on how to handle human resource and data security issues in this next phase that we&rsquo\;re entering.</span></strong><br />\n&nbsp\;
LOCATION:This is an online presentation
UID:e.2559.1264
SEQUENCE:3
DTSTAMP:20260423T130355Z
URL:https://business.readingnreadingchamber.org/events/details/next-phase-data-security-and-human-research-management-concerns-1264
END:VEVENT

END:VCALENDAR
