BEGIN:VCALENDAR
VERSION:2.0
PRODID:-//ChamberMaster//Event Calendar 2.0//EN
METHOD:PUBLISH
X-PUBLISHED-TTL:P3D
REFRESH-INTERVAL:P3D
CALSCALE:GREGORIAN
BEGIN:VEVENT
DTSTART:20190530T213000Z
DTEND:20190530T233000Z
X-MICROSOFT-CDO-ALLDAYEVENT:FALSE
SUMMARY:Networking\, Knowledge\, Wine and Chocolate
DESCRIPTION:We are joining with the Woburn Business Association and the North Suburban Chamber of Commerce to support this fun event sponsored by Salter HealthCare and Chocolate Therapy at Benchmark Senior Living at Woburn for an evening of networking\, knowledge\, wine and chocolate! Learn how recent healthcare changes may affect you as a consumer and what factors impact your options so that you can be armed with the information needed to make informed healthcare decisions for yourself and your loved ones. We'll wrap up the evening with locally made chocolates featuring antioxidant-rich ingredients paired perfectly with a variety of wine coupled with a little knowledge from the experts on how to create your own pairings at home.\n\n\n\nHosted by Salter Healthcare
X-ALT-DESC;FMTTYPE=text/html:<span style="color:black\;">We are joining with the Woburn Business Association and the North Suburban Chamber of Commerce to support this fun event sponsored by Salter HealthCare and Chocolate Therapy at Benchmark Senior Living at Woburn for an evening of networking\, knowledge\, wine and chocolate! Learn how recent healthcare changes may affect you as a consumer and what factors impact your options so that you can be armed with the information needed to make informed healthcare decisions for yourself and your loved ones. We&#39\;ll wrap up the evening with locally made chocolates featuring antioxidant-rich ingredients paired perfectly with a variety of wine coupled with a little knowledge from the experts on how to create your own pairings at home.</span><br />\n<br />\nHosted by Salter Healthcare
LOCATION:Benchmark Senior Living One Cedar Street Woburn\, MA
UID:e.2559.1184
SEQUENCE:3
DTSTAMP:20260424T090150Z
URL:https://business.readingnreadingchamber.org/events/details/networking-knowledge-wine-and-chocolate-1184
END:VEVENT

END:VCALENDAR
