BEGIN:VCALENDAR
VERSION:2.0
PRODID:-//ChamberMaster//Event Calendar 2.0//EN
METHOD:PUBLISH
X-PUBLISHED-TTL:P3D
REFRESH-INTERVAL:P3D
CALSCALE:GREGORIAN
BEGIN:VEVENT
DTSTART:20200123T130000Z
DTEND:20200123T141500Z
X-MICROSOFT-CDO-ALLDAYEVENT:FALSE
SUMMARY:Maximize your Membership: Chamber 101
DESCRIPTION:Resolve to Maximize your Chamber Membership in 2020!  Come to a hands-on seminar and learn how to use Chambermaster\, to log in\, update your membership directory listing\, add your team to our communications\, post job listings\, advertise your business and capitalize on your membership!\n\nDid you know you can send your deals to the chamber mailing list\, for free\, as part of your membership?  Interested in getting the list of decision makers at local businesses?  Come to this business breakfast and leave armed to make 2020 count!
X-ALT-DESC;FMTTYPE=text/html:Resolve to Maximize your Chamber Membership in 2020!&nbsp\; Come to a hands-on seminar and learn how to use Chambermaster\,&nbsp\;to log in\, update your membership directory listing\, add your team to our communications\, post job listings\, advertise your business and capitalize on your membership!<br />\nDid you know you can send your deals to the chamber mailing list\, for free\, as part of your membership?&nbsp\; Interested in getting the list of decision makers at local businesses?&nbsp\; Come to this business breakfast and leave armed to make 2020 count!
LOCATION:Reading Cooperative Bank Corporate HQ 55 Walker's Brook Drive\, Floor 3 Reading\, MA 01867
UID:e.2559.1224
SEQUENCE:3
DTSTAMP:20260423T220705Z
URL:https://business.readingnreadingchamber.org/events/details/maximize-your-membership-chamber-101-1224
END:VEVENT

END:VCALENDAR
