BEGIN:VCALENDAR
VERSION:2.0
PRODID:-//ChamberMaster//Event Calendar 2.0//EN
METHOD:PUBLISH
X-PUBLISHED-TTL:P3D
REFRESH-INTERVAL:P3D
CALSCALE:GREGORIAN
BEGIN:VEVENT
DTSTART:20180918T113000Z
DTEND:20180918T130000Z
X-MICROSOFT-CDO-ALLDAYEVENT:FALSE
SUMMARY:Maximize your Membership: Chamber 101
DESCRIPTION:Maximize your Chamber Membership in 2018!  Come to a hands-on seminar and learn how to use Chambermaster\, to log in\, update your membership directory listing\, add your team to our communications\, post job listings\, advertise your business and capitalize on your membership!\n\n\n\nDid you know you can send your deals to the chamber mailing list\, for free\, as part of your membership?  Interested in getting the list of decision makers at local businesses?  Come to this business breakfast and leave armed to make your membership count!
X-ALT-DESC;FMTTYPE=text/html:Maximize your Chamber Membership in 2018!&nbsp\; Come to a hands-on seminar and learn how to use Chambermaster\,&nbsp\;to log in\, update your membership directory listing\, add your team to our communications\, post job listings\, advertise your business and capitalize on your membership!<br />\n<br />\nDid you know you can send your deals to the chamber mailing list\, for free\, as part of your membership?&nbsp\; Interested in getting the list of decision makers at local businesses?&nbsp\; Come to this business breakfast and leave armed to make your membership count!
LOCATION:Reading Cooperative Bank Corporate HQ 55 Walker's Brook Drive\, Floor 3 Reading\, MA 01867
UID:e.2559.1129
SEQUENCE:3
DTSTAMP:20260424T214257Z
URL:https://business.readingnreadingchamber.org/events/details/maximize-your-membership-chamber-101-1129
END:VEVENT

END:VCALENDAR
