BEGIN:VCALENDAR
VERSION:2.0
PRODID:-//ChamberMaster//Event Calendar 2.0//EN
METHOD:PUBLISH
X-PUBLISHED-TTL:P3D
REFRESH-INTERVAL:P3D
CALSCALE:GREGORIAN
BEGIN:VEVENT
DTSTART:20200305T130000Z
DTEND:20200305T143000Z
X-MICROSOFT-CDO-ALLDAYEVENT:FALSE
SUMMARY:MA Dept of Transportation Meeting
DESCRIPTION:There are big changes coming to Route 28/Main Street in Reading.  A significant project will begin in April 2020\, which will impact the entire road.  Come to this meeting\, focused on Reading businesses\, to learn more about this project and its schedule and how it may impact your business\, customers and potentially parking in town.  More information can be found here.
X-ALT-DESC;FMTTYPE=text/html:There are big changes coming to Route 28/Main Street in Reading.&nbsp\; A significant project will begin in April 2020\, which will impact the entire road.&nbsp\; Come to this meeting\, focused on Reading businesses\, to learn more about this project and its schedule and how it may impact your business\, customers and potentially parking in town.&nbsp\; More information can be found <a href="https://chambermaster.blob.core.windows.net/userfiles/UserFiles/chambers/2559/File/MassDOT-ProjectInformationFlyer2.24.2020.pdf">here.</a>
LOCATION:Reading Public Library Middlesex Avenue Reading MA
UID:e.2559.1237
SEQUENCE:3
DTSTAMP:20260423T173512Z
URL:https://business.readingnreadingchamber.org/events/details/ma-dept-of-transportation-meeting-1237
END:VEVENT

END:VCALENDAR
