BEGIN:VCALENDAR
VERSION:2.0
PRODID:-//ChamberMaster//Event Calendar 2.0//EN
METHOD:PUBLISH
X-PUBLISHED-TTL:P3D
REFRESH-INTERVAL:P3D
CALSCALE:GREGORIAN
BEGIN:VEVENT
DTSTART:20190717T113000Z
DTEND:20190717T130000Z
X-MICROSOFT-CDO-ALLDAYEVENT:FALSE
SUMMARY:Living Well: Making Every Moment Count
DESCRIPTION:Join us for a special program which will discuss what it means to live well\, the barriers we face and how we can begin to do so.  The Residence at Pearl Street and Care Dimensions presents Living Well\; Making Every Moment Count.\n\nThe incomparable Mary Crowe will be speaking about the obstacles in experiencing our most joy filled life\, and how to work through them.\n\n.
X-ALT-DESC;FMTTYPE=text/html:Join us for a special program which will discuss what it means to live well\, the barriers we face and how we can begin to do so.&nbsp\;&nbsp\;The Residence at Pearl Street and Care Dimensions presents Living Well\; Making Every Moment Count.<br />\nThe incomparable Mary Crowe will be speaking about the obstacles in experiencing our most joy filled life\, and how to work through them.<br />\n.
LOCATION:The Residence at Pearl Street 75 Pearl Street Reading\, MA 01867
UID:e.2559.1196
SEQUENCE:3
DTSTAMP:20260424T055729Z
URL:https://business.readingnreadingchamber.org/events/details/living-well-making-every-moment-count-1196
END:VEVENT

END:VCALENDAR
