BEGIN:VCALENDAR
VERSION:2.0
PRODID:-//ChamberMaster//Event Calendar 2.0//EN
METHOD:PUBLISH
X-PUBLISHED-TTL:P3D
REFRESH-INTERVAL:P3D
CALSCALE:GREGORIAN
BEGIN:VEVENT
DTSTART:20200310T120000Z
DTEND:20200310T170000Z
X-MICROSOFT-CDO-ALLDAYEVENT:FALSE
SUMMARY:Head Shot Mini Sessions
DESCRIPTION:As a business owner\, the image you project to your customers is important. Having a head shot taken by a professional photographer is one simple way to make sure you always make the right impression.  This professional Image event\, sponsored and hosted by Northern Bank includes 20 mini head shot sessions. Photography by Jennifer Jule Ramsburg of JBug Images LLC.  Space is limited\; register today to secure your spot.
X-ALT-DESC;FMTTYPE=text/html:As a business owner\, the image you project to your customers is important. Having a head shot taken by a professional photographer is one simple way to make sure you always make the right impression.&nbsp\; This professional Image event\, sponsored and hosted by Northern Bank includes 20 mini head shot sessions. Photography by Jennifer Jule Ramsburg of JBug Images LLC.&nbsp\; Space is limited\; register today to secure your spot.
LOCATION:Northern Bank\, 600 Main Street Reading\, MA 01867
UID:e.2559.1238
SEQUENCE:3
DTSTAMP:20260423T172709Z
URL:https://business.readingnreadingchamber.org/events/details/head-shot-mini-sessions-1238
END:VEVENT

END:VCALENDAR
