BEGIN:VCALENDAR
VERSION:2.0
PRODID:-//ChamberMaster//Event Calendar 2.0//EN
METHOD:PUBLISH
X-PUBLISHED-TTL:P3D
REFRESH-INTERVAL:P3D
CALSCALE:GREGORIAN
BEGIN:VEVENT
DTSTART:20190222T223000Z
DTEND:20190223T003000Z
X-MICROSOFT-CDO-ALLDAYEVENT:FALSE
SUMMARY:Grand Opening! Ponce De Leon Med Spa
DESCRIPTION:Giveaways every 20 minutes (up to $500)\n\nSwag bag (samples of Neocutis) to the first 50 guests\n\nPromotional Pricing for future services when booked at the event\n\n\n\nFood - Drinks - Wine - Music and more\n\n\n\nRSVP via text to 978-987-0930 or by clicking here.
X-ALT-DESC;FMTTYPE=text/html:<p>Giveaways every 20 minutes (up to $500)<br />\nSwag bag (samples of Neocutis) to the first 50 guests<br />\nPromotional Pricing for future services when booked at the event<br />\n<br />\nFood - Drinks - Wine - Music and more<br />\n<br />\nRSVP via text to 978-987-0930 or by clicking <a href="https://www.facebook.com/poncedeleonmedspa/">here</a>.<br />\n&nbsp\;</p>\n
LOCATION:328 Main Street Reading\, MA 01867
UID:e.2559.1163
SEQUENCE:3
DTSTAMP:20260424T132355Z
URL:https://business.readingnreadingchamber.org/events/details/grand-opening-ponce-de-leon-med-spa-1163
END:VEVENT

END:VCALENDAR
