BEGIN:VCALENDAR
VERSION:2.0
PRODID:-//ChamberMaster//Event Calendar 2.0//EN
METHOD:PUBLISH
X-PUBLISHED-TTL:P3D
REFRESH-INTERVAL:P3D
CALSCALE:GREGORIAN
BEGIN:VEVENT
DTSTART:20190627T213000Z
DTEND:20190627T233000Z
X-MICROSOFT-CDO-ALLDAYEVENT:FALSE
SUMMARY:Grand Opening of Jewelry & Beauty Boutique
DESCRIPTION:You are invited to attend the Grand Opening of Jewelry & Beauty Boutique\n\nEnjoy cocktails and receive 10% off purchases made during the event!
X-ALT-DESC;FMTTYPE=text/html:You are invited to attend the Grand Opening of Jewelry &amp\; Beauty Boutique<br>\nEnjoy cocktails and receive 10% off purchases made during the event!<br>\n&nbsp\;
LOCATION:Jewelry & Beauty Boutique 2 Haven Street Reading
UID:e.2559.1195
SEQUENCE:3
DTSTAMP:20260424T073644Z
URL:https://business.readingnreadingchamber.org/events/details/grand-opening-of-jewelry-beauty-boutique-1195
END:VEVENT

END:VCALENDAR
