BEGIN:VCALENDAR
VERSION:2.0
PRODID:-//ChamberMaster//Event Calendar 2.0//EN
METHOD:PUBLISH
X-PUBLISHED-TTL:P3D
REFRESH-INTERVAL:P3D
CALSCALE:GREGORIAN
BEGIN:VEVENT
DTSTART:20200227T233000Z
DTEND:20200228T010000Z
X-MICROSOFT-CDO-ALLDAYEVENT:FALSE
SUMMARY:First Time Homebuyers Seminar
DESCRIPTION:Have you dreamed of owning a home but unsure of the process? Are you tired of being overcharged on rent\, feel stuck living with your parents or are looking to live the American Dream? This event is for you!\n\n\n\nCome out and learn about every aspect from the pre-approval process to looking for the right home for you to the loan closing. You will learn tips and steps to better prepare you for the pre-approval and steps to home ownership. Light snacks and door prizes will be provided. Great location at Staples new Community Room in Reading\n\n\n\nGreat info presented by Kysa Lovvoll of CrossCountry Mortgage and Denise McCarthy of ReMax Encore -\n\n\n\nDon't miss it and Share this event with friends.\n\n\n\nThis event is Free and you can register here.
X-ALT-DESC;FMTTYPE=text/html:<span>Have you dreamed of owning a home but unsure of the process? Are you tired of being overcharged on rent\, feel stuck living with your parents or are looking to live the American Dream? This event is for you!<br />\n<br />\nCome out and learn about every aspect from the pre-approval process to looking for the right home for you to the loan closing. You will learn tips and steps to better prepare you for the pre-approval and steps to home ownership. Light snacks and door prizes will be provided. Great location at Staples new Community Room in Reading<br />\n<br />\nGreat info presented by Kysa Lovvoll of CrossCountry Mortgage and Denise McCarthy of ReMax Encore -<br />\n<br />\nDon&rsquo\;t miss it and Share this event with friends.<br />\n<br />\nThis event is Free and you can register <a href="https://www.eventbrite.com/e/first-time-home-buyers-tickets-94711734347">here</a>.</span>
LOCATION:Staples 34 Walker's Brook Drive Reading MA
UID:e.2559.1242
SEQUENCE:3
DTSTAMP:20260423T191318Z
URL:https://business.readingnreadingchamber.org/events/details/first-time-homebuyers-seminar-1242
END:VEVENT

END:VCALENDAR
