BEGIN:VCALENDAR
VERSION:2.0
PRODID:-//ChamberMaster//Event Calendar 2.0//EN
METHOD:PUBLISH
X-PUBLISHED-TTL:P3D
REFRESH-INTERVAL:P3D
CALSCALE:GREGORIAN
BEGIN:VEVENT
DTSTART:20181106T000000Z
DTEND:20181106T013000Z
X-MICROSOFT-CDO-ALLDAYEVENT:FALSE
SUMMARY:Entrepreneurs Meet up at Reading Public Library - You Can't Do It Alone
DESCRIPTION:Sometimes a new business is a team effort.  How do you decide where you need help and how do you pull together the right lineup? Join Gregg Johnson\, Vice President of Lee Kimball for a conversation on the importance of a strong team.\n\nReading Public Library?s entrepreneur series\, Krosslink @ Reading Public Library\, promises to welcome\, engage\, and nurture new businesses through networking\, presentations\, and mentoring.
X-ALT-DESC;FMTTYPE=text/html:<div id="s-lc-event-desc">\n<div id="s-lc-event-desc">\n<p>Sometimes a new business is a team effort.&nbsp\; How do you decide where you need help and how do you pull together the right lineup? Join Gregg Johnson\, Vice President of <a href="http://leekimball.com/">Lee Kimball</a> for a conversation on the importance of a strong team.</p>\n\n<p>Reading Public Library?s entrepreneur series\, Krosslink @ Reading Public Library\, promises to welcome\, engage\, and nurture new businesses through networking\, presentations\, and mentoring.</p>\n</div>\n</div>\n
LOCATION:Reading Public Library 64 Middlesex Avenue Reading\, MA 01867
UID:e.2559.1134
SEQUENCE:3
DTSTAMP:20260424T173336Z
URL:https://business.readingnreadingchamber.org/events/details/entrepreneurs-meet-up-at-reading-public-library-you-can-t-do-it-alone-1134
END:VEVENT

END:VCALENDAR
