BEGIN:VCALENDAR
VERSION:2.0
PRODID:-//ChamberMaster//Event Calendar 2.0//EN
METHOD:PUBLISH
X-PUBLISHED-TTL:P3D
REFRESH-INTERVAL:P3D
CALSCALE:GREGORIAN
BEGIN:VEVENT
DTSTART:20180910T230000Z
DTEND:20180911T003000Z
X-MICROSOFT-CDO-ALLDAYEVENT:FALSE
SUMMARY:Entrepreneurs Meet up at Reading Public Library - Can you Canva?
DESCRIPTION:Looking for an economical way to promote your emerging company?  Come learn about Canva\, an online graphic design tool that's fun and easy to use! Canva is great for creating digital & print materials. The possibilities are endless and each creation you make looks so professional\, everyone will think you hired a graphic designer! Join Meghan Young and Lorraine Barry at this casual training open to anyone interested in learning more. \n\nReading Public Library?s entrepreneur series\, Krosslink @ Reading Public Library\, promises to welcome\, engage\, and nurture new businesses through networking\, presentations\, and mentoring.
X-ALT-DESC;FMTTYPE=text/html:<div id="s-lc-event-desc">\n<div>Looking for an economical way to promote your emerging company?&nbsp\; Come learn about <a data-saferedirecturl="https://www.google.com/url?q=https://www.canva.com/&amp\;source=gmail&amp\;ust=1532703966063000&amp\;usg=AFQjCNGGImHcIKy4RgoXKFMGVVXbk2Kr-g" href="https://www.canva.com/" target="_blank"><span class="m_822135713857707003m_695084640856919861m_5248065312661820984gmail-il">Canva</span></a>\, an online graphic design tool that&#39\;s fun and easy to use! <span class="m_822135713857707003m_695084640856919861m_5248065312661820984gmail-il">Canva</span> is great for creating digital &amp\; print materials. The possibilities are endless and each creation you make looks so professional\, everyone will think you hired a graphic designer! Join Meghan Young and Lorraine Barry at this casual training open to anyone interested in learning more.&nbsp\;</div>\n\n<p>Reading Public Library?s entrepreneur series\, Krosslink @ Reading Public Library\, promises to welcome\, engage\, and nurture new businesses through networking\, presentations\, and mentoring.</p>\n</div>\n
LOCATION:Reading Public Library 64 Middlesex Avenue Reading\, MA 01867
UID:e.2559.1132
SEQUENCE:3
DTSTAMP:20260424T202148Z
URL:https://business.readingnreadingchamber.org/events/details/entrepreneurs-meet-up-at-reading-public-library-can-you-canva-1132
END:VEVENT

END:VCALENDAR
