BEGIN:VCALENDAR
VERSION:2.0
PRODID:-//ChamberMaster//Event Calendar 2.0//EN
METHOD:PUBLISH
X-PUBLISHED-TTL:P3D
REFRESH-INTERVAL:P3D
CALSCALE:GREGORIAN
BEGIN:VEVENT
DTSTART:20181001T230000Z
DTEND:20181002T003000Z
X-MICROSOFT-CDO-ALLDAYEVENT:FALSE
SUMMARY:Entrepreneurs Meet up at Reading Public Library - Ask Me Anything
DESCRIPTION:Join this "Ask Me Anything" session to hear start-up stories from local businesses.\n\nReading Public Library's entrepreneur series\, Krosslink @ Reading Public Library\, promises to welcome\, engage\, and nurture new businesses through networking\, presentations\, and mentoring.
X-ALT-DESC;FMTTYPE=text/html:<div id="s-lc-event-desc">\n<div id="s-lc-event-desc">\n<p>Join this &quot\;Ask Me Anything&quot\; session to hear start-up stories from local businesses.</p>\n\n<p>Reading Public Library&rsquo\;s entrepreneur series\, Krosslink @ Reading Public Library\, promises to welcome\, engage\, and nurture new businesses through networking\, presentations\, and mentoring.</p>\n</div>\n</div>\n
LOCATION:Reading Public Library 64 Middlesex Avenue Reading\, MA 01867
UID:e.2559.1133
SEQUENCE:3
DTSTAMP:20260424T185333Z
URL:https://business.readingnreadingchamber.org/events/details/entrepreneurs-meet-up-at-reading-public-library-ask-me-anything-1133
END:VEVENT

END:VCALENDAR
