BEGIN:VCALENDAR
VERSION:2.0
PRODID:-//ChamberMaster//Event Calendar 2.0//EN
METHOD:PUBLISH
X-PUBLISHED-TTL:P3D
REFRESH-INTERVAL:P3D
CALSCALE:GREGORIAN
BEGIN:VEVENT
DTSTART:20191023T200000Z
DTEND:20191023T213000Z
X-MICROSOFT-CDO-ALLDAYEVENT:FALSE
SUMMARY:Downtown Trick or Treat
DESCRIPTION:Calling all ghouls and goblins\, girls and boys!  Hop into your costumes and head to downtown Reading to enjoy a spooktacular late-afternoon filed with fun\, treats and candy!  Our local businesses will be open and ready to greet your trick or treat.\n\n Participating businesses will be identified with balloons outside of the their store front.  Trick or Treaters are free to start anywhere on the reoute and don't forget to stop by the Pleasant Street/Senior Center\, Reading Police Dept and Town Hall to show off those costumes and pick up some goodies.  This is a free event for the community and is open to kids up to age 13.  All children should be accompanied by an adult.  This event is rain or shine.\n\n\n\nNew this year\, businesses looking to reserve a spot on the common during this event must complete the permit found here\, and the cost is $25.
X-ALT-DESC;FMTTYPE=text/html:Calling all ghouls and goblins\, girls and boys!&nbsp\; Hop into your costumes and head to downtown Reading to enjoy a spooktacular late-afternoon filed with fun\, treats and candy!&nbsp\; Our local businesses will be open and ready to greet your trick or treat.<br />\n&#8203\;Participating businesses will be identified with balloons outside of the their store front.&nbsp\; Trick or Treaters are free to start anywhere on the reoute and don&#39\;t forget to stop by the Pleasant Street/Senior Center\, Reading Police Dept and Town Hall to show off those costumes and pick up some goodies.&nbsp\; This is a free event for the community and is open to kids up to age 13.&nbsp\; All children should be accompanied by an adult.&nbsp\; This event is rain or shine.<br />\n<br />\n<span style="font-size:14px\;"><span style="color:#B22222\;">New this year\, businesses looking to reserve a spot on the common during this event must complete the permit found </span><a href="https://chambermaster.blob.core.windows.net/userfiles/UserFiles/chambers/2559/File/DowntownTrickorTreatPermit.docx"><span style="color:#B22222\;">here</span></a><span style="color:#B22222\;">\, and the cost is $25.</span></span>
LOCATION:Downtown Reading Pleasant St/Senior Center\, Reading Police Dept & Town Hall
UID:e.2559.1204
SEQUENCE:3
DTSTAMP:20260424T024233Z
URL:https://business.readingnreadingchamber.org/events/details/downtown-trick-or-treat-1204
END:VEVENT

END:VCALENDAR
