BEGIN:VCALENDAR
VERSION:2.0
PRODID:-//ChamberMaster//Event Calendar 2.0//EN
METHOD:PUBLISH
X-PUBLISHED-TTL:P3D
REFRESH-INTERVAL:P3D
CALSCALE:GREGORIAN
BEGIN:VEVENT
DTSTART:20200519T163000Z
DTEND:20200519T173000Z
X-MICROSOFT-CDO-ALLDAYEVENT:FALSE
SUMMARY:Do You Know How to Provide Excellent Customer Service?
DESCRIPTION:Tuesday Virtual Cafe with Diane Darling\n\n \n\n\nThis is a low-key gathering for people to do three things:\n\n\n\n1) Learn\n\n2) Share\n\n3) Connect\n\n\n\nAGENDA:\n\n\n\n- Welcome from me!\n\n- Guest speaker for 15-20 minutes\n\n- Breakout into small groups using Zoom's breakout room tool\n\n- Reconnect at the end\n\n\n\nGUEST SPEAKER: Stephanie Emrich - customer service expert across all industries.\n\n\n\nWe all know when we experience bad customer service\, do you know how to deliver EXCELLENT customer service?\n\n\n\nStephanie's background includes working at TOP hotels. She now teaches people how to deliver the BEST customer service.\n\n\n\nGrab a pen and paper so you can take some notes.\n\n\n\nClick here to register\n\n\n\n\n\np.s. If you know someone who would be a good guest\, please email me ... Diane@DianeDarling.com
X-ALT-DESC;FMTTYPE=text/html:<div class="controls"><strong>Tuesday Virtual Cafe with Diane Darling</strong></div>\n\n<div class="form-group horizontal">&nbsp\;\n<div class="controls"><br />\nThis is a low-key gathering for people to do three things:<br />\n<br />\n1) Learn<br />\n2) Share<br />\n3) Connect<br />\n<br />\nAGENDA:<br />\n<br />\n- Welcome from me!<br />\n- Guest speaker for 15-20 minutes<br />\n- Breakout into small groups using Zoom&#39\;s breakout room tool<br />\n- Reconnect at the end<br />\n<br />\nGUEST SPEAKER: Stephanie Emrich - customer service expert across all industries.<br />\n<br />\nWe all know when we experience bad customer service\, do you know how to deliver EXCELLENT customer service?<br />\n<br />\nStephanie&#39\;s background includes working at TOP hotels. She now teaches people how to deliver the BEST customer service.<br />\n<br />\nGrab a pen and paper so you can take some notes.<br />\n<br />\n<strong><span style="background:white\;"><span style="color:black\;"><span style="font-family:verdana\,sans-serif\;"><span style="font-size:12.0pt\;"><a href="https://dian.maillist-manage.com/click.zc?od=2d5a885a69b60a9727c3b6701de249c6e1185630859ca1fd0&amp\;repDgs=148c49c8e0f13d5a&amp\;linkDgs=148c49c8e0f0c588&amp\;mrd=148c49c8e0f0d8fd&amp\;m=1" target="_blank" title="Click here to register"><span style="letter-spacing:.4pt\;"><span style="color:#1B6BBD\;">Click here to register</span></span></a></span></span></span></span></strong><br />\n<br />\n<br />\np.s. If you know someone who would be a good guest\, please email me ... Diane@DianeDarling.com</div>\n</div>\n
LOCATION:Zoom Webinar
UID:e.2559.1255
SEQUENCE:3
DTSTAMP:20260423T143948Z
URL:https://business.readingnreadingchamber.org/events/details/do-you-know-how-to-provide-excellent-customer-service-1255
END:VEVENT

END:VCALENDAR
