BEGIN:VCALENDAR
VERSION:2.0
PRODID:-//ChamberMaster//Event Calendar 2.0//EN
METHOD:PUBLISH
X-PUBLISHED-TTL:P3D
REFRESH-INTERVAL:P3D
CALSCALE:GREGORIAN
BEGIN:VEVENT
DTSTART:20200623T130000Z
DTEND:20200623T140000Z
X-MICROSOFT-CDO-ALLDAYEVENT:FALSE
SUMMARY:Balancing Public Health and Reopening
DESCRIPTION:A conversation with Senator Jason Lewis\, Massachusetts Secretary of Housing & Economic Development Mike Kennealy\, and infectious disease expert Dr. Lou Ann Bruno-Murtha.\n\n\n\nJoin us for a timely virtual conversation about where we are right now in Massachusetts with the COVID-19 pandemic. Ask questions and share your feedback about reopening plans.\n\n\n\nAs Secretary of Housing and Economic Development\, Secretary Kennealy is responsible for advancing the Baker-Polito Administration's agenda to create economic opportunity for residents\, collaborative leadership in communities\, an environment that supports job creation and business growth\, and new housing for residents through targeted investments. Secretary Kennealy is a co-chair of the Governor's Reopening Advisory Commission.\n\n\n\nDr. Bruno-Murtha works at Cambridge Health Alliance and is board certified in infectious disease. She is also an Assistant Professor of Medicine at Harvard Medical School.\n\n\n\nThis conversation will be streamed live on Senator Jason Lewis's Facebook page and YouTube channel.\n\n\n\nPlease feel free to submit questions in advance to Emily.Granoff@masenate.gov.
X-ALT-DESC;FMTTYPE=text/html:<span>A conversation with Senator Jason Lewis\, Massachusetts Secretary of Housing &amp\; Economic Development Mike Kennealy\, and infectious disease expert Dr. Lou Ann Bruno-Murtha.<br />\n<br />\nJoin us for a timely virtual conversation about where we are right now in Massachusetts with the COVID-19 pandemic. Ask questions and share your feedback about reopening plans.<br />\n<br />\nAs Secretary of Housing and Economic Development\, Secretary Kennealy is responsible for advancing the Baker-Polito Administration&rsquo\;s agenda to create economic opportunity for residents\, collaborative leadership in communities\, an environment that supports job creation and business growth\, and new housing for residents through targeted investments. Secretary Kennealy is a co-chair of the Governor&#39\;s Reopening Advisory Commission.<br />\n<br />\nDr. Bruno-Murtha works at Cambridge Health Alliance and is board certified in infectious disease. She is also an Assistant Professor of Medicine at Harvard Medical School.<br />\n<br />\nThis conversation will be streamed live on Senator Jason Lewis&#39\;s Facebook page and YouTube channel.<br />\n<br />\nPlease feel free to submit questions in advance to <a href="mailto:Emily.Granoff@masenate.gov">Emily.Granoff@masenate.gov</a>.</span>
LOCATION:Via Facebook Live Link.
UID:e.2559.1261
SEQUENCE:3
DTSTAMP:20260423T130739Z
URL:https://business.readingnreadingchamber.org/events/details/balancing-public-health-and-reopening-1261
END:VEVENT

END:VCALENDAR
