BEGIN:VCALENDAR
VERSION:2.0
PRODID:-//ChamberMaster//Event Calendar 2.0//EN
METHOD:PUBLISH
X-PUBLISHED-TTL:P3D
REFRESH-INTERVAL:P3D
CALSCALE:GREGORIAN
BEGIN:VEVENT
DTSTART:20200520T160000Z
DTEND:20200520T170000Z
X-MICROSOFT-CDO-ALLDAYEVENT:FALSE
SUMMARY:Back to Work Webinar
DESCRIPTION:Join Employment Attorneys David Robinson of Ruberto\, Israel & Weiner and Ken DeMoura of DeMoura Smith to learn about steps you should take to reopen as well as best practices for your staff and clients. Pre- registration is requested and the webinar link will be emailed to you an hour prior to the event.
X-ALT-DESC;FMTTYPE=text/html:<div><span style="color:#000000\;"><span style="font-size: 16px\; text-decoration: none\;">Join Employment Attorneys David Robinson of </span></span><a href="https://www.riw.com/" rel="noopener noreferrer" style="font-size: 16px\; text-decoration: none\;" target="_blank"><span style="color:#000000\;">Ruberto\, Israel &amp\; Weiner and Ken </span></a><span style="font-size: 16px\; text-decoration: none\;"><span style="color:#000000\;">DeMoura of DeMoura Smith to learn about steps you should take to reopen as well as best practices for your staff and clients. Pre- registration is requested and the webinar link will be emailed to you an hour prior to the event.</span></span></div>\n
LOCATION:ZOOM Meeting Information: https://us02web.zoom.us/j/85997912602?pwd=blJaVzkzblp6aml0YjRPYmNLMzlhUT09 Meeting ID: 859 9791 2602 Password: 447906 Webinar. Kindly pre-register and the link will be email an hour prior to the event. Member Tickets: FREE Non Member Tickets: $10
UID:e.2559.1254
SEQUENCE:3
DTSTAMP:20260423T081309Z
URL:https://business.readingnreadingchamber.org/events/details/back-to-work-webinar-1254
END:VEVENT

END:VCALENDAR
