BEGIN:VCALENDAR
VERSION:2.0
PRODID:-//ChamberMaster//Event Calendar 2.0//EN
METHOD:PUBLISH
X-PUBLISHED-TTL:P3D
REFRESH-INTERVAL:P3D
CALSCALE:GREGORIAN
BEGIN:VEVENT
DTSTART:20180912T143000Z
DTEND:20180912T153000Z
X-MICROSOFT-CDO-ALLDAYEVENT:FALSE
SUMMARY:Attorney General's Office Community Engagement Webinar Series - Workers’ Rights
DESCRIPTION:Workers Rights Presentation\n\n\n\nWorkers have the right to be paid for all the time that they work and to be paid on time. They must get paystubs and be able to see their employer's record of their hours and pay. Workers who think their rights were violated can file a complaint with the Attorney General's Fair Labor Division. This presentation will overview the rights of workers and responsibilities of employers in Massachusetts.\n\n\n\n\n\nAs a part of the Attorney General?s Office continued effort to inform the public about its resources\, the Community Engagement Division begun train-the-trainer model presentations. CED will provide a webinar training every month\, and can provide additional webinars for service organizations and agencies upon request.Landlord-Tenant Rights Presentation
X-ALT-DESC;FMTTYPE=text/html:<br />\n<strong>Workers Rights Presentation</strong><br />\n<br />\n<span>Workers have the right to be paid for all the time that they work and to be paid on time. They must get paystubs and be able to see their employer&#39\;s record of their hours and pay. Workers who think their rights were violated can file a complaint with the Attorney General&#39\;s Fair Labor Division. This presentation will overview the rights of workers and responsibilities of employers in Massachusetts.</span><br />\n<br />\n<br />\nAs a part of the Attorney General?s Office continued effort to inform the public about its resources\, the Community Engagement Division begun train-the-trainer model presentations. CED will provide a webinar training every month\, and can provide additional webinars for service organizations and agencies upon request.Landlord-Tenant Rights Presentation<br />\n<br />\n&nbsp\;
LOCATION:
UID:e.2559.1124
SEQUENCE:3
DTSTAMP:20260424T214538Z
URL:https://business.readingnreadingchamber.org/events/details/attorney-general-s-office-community-engagement-webinar-series-workers-rights-1124
END:VEVENT

END:VCALENDAR
