BEGIN:VCALENDAR
VERSION:2.0
PRODID:-//ChamberMaster//Event Calendar 2.0//EN
METHOD:PUBLISH
X-PUBLISHED-TTL:P3D
REFRESH-INTERVAL:P3D
CALSCALE:GREGORIAN
BEGIN:VEVENT
DTSTART:20180808T143000Z
DTEND:20180808T153000Z
X-MICROSOFT-CDO-ALLDAYEVENT:FALSE
SUMMARY:Attorney General's Office Community Engagement Webinar Series - Landlord-Tenant Rights
DESCRIPTION:Landlord-Tenant Rights Presentation\nAcross the Commonwealth of Massachusetts\, thousands of residents elect to rent their homes\, while thousands of others serve as landlords. When entering into a rental agreement\, there are a number of issues that both landlords and tenants must consider.\n\nThis presentation will outline rental agreement considerations\, as well as rules regarding types of tenancies\, payments\, evictions\, habitable living conditions\, and housing discrimination. It is important for both landlords and tenants to understand the laws and regulations that govern all aspects of rental arrangements.\n\n\n\nAs a part of the Attorney General?s Office continued effort to inform the public about its resources\, the Community Engagement Division begun train-the-trainer model presentations. CED will provide a webinar training every month\, and can provide additional webinars for service organizations and agencies upon request.Landlord-Tenant Rights Presentation
X-ALT-DESC;FMTTYPE=text/html:<h4><strong>Landlord-Tenant Rights Presentation</strong></h4>\nAcross the Commonwealth of Massachusetts\, thousands of residents elect to rent their homes\, while thousands of others serve as landlords. When entering into a rental agreement\, there are a number of issues that both landlords and tenants must consider.<br />\nThis presentation will outline rental agreement considerations\, as well as rules regarding types of tenancies\, payments\, evictions\, habitable living conditions\, and housing discrimination. It is important for both landlords and tenants to understand the laws and regulations that govern all aspects of rental arrangements.<br />\n<br />\nAs a part of the Attorney General?s Office continued effort to inform the public about its resources\, the Community Engagement Division begun train-the-trainer model presentations. CED will provide a webinar training every month\, and can provide additional webinars for service organizations and agencies upon request.Landlord-Tenant Rights Presentation<br />\n<br />\n<br />\n&nbsp\;
LOCATION:
UID:e.2559.1123
SEQUENCE:3
DTSTAMP:20260424T230701Z
URL:https://business.readingnreadingchamber.org/events/details/attorney-general-s-office-community-engagement-webinar-series-landlord-tenant-rights-1123
END:VEVENT

END:VCALENDAR
