BEGIN:VCALENDAR
VERSION:2.0
PRODID:-//ChamberMaster//Event Calendar 2.0//EN
METHOD:PUBLISH
X-PUBLISHED-TTL:P3D
REFRESH-INTERVAL:P3D
CALSCALE:GREGORIAN
BEGIN:VEVENT
DTSTART:20181009T143000Z
DTEND:20181009T153000Z
X-MICROSOFT-CDO-ALLDAYEVENT:FALSE
SUMMARY:Attorney General's Office Community Engagement Webinar Series - Identity Theft and Scams Prevention
DESCRIPTION:Identity Theft and Scams Prevention Presentation\n\n\n\nIdentity theft is a serious crime with serious costs for victims. ID theft occurs when someone obtains your personal information - such as your Social Security Number\, credit card or account numbers\, passwords\, among others - to defraud or commit crimes. Victims of identity theft may lose significant money and time\, and may find their reputation and credit rating has been damaged\, affecting the ability to obtain loans for education or housing\, approval for rental agreements\, and approval for credit cards or large purchases requiring credit.\n\n\n\nThis presentation will educate consumers on how to protect personal information to prevent identity theft and about the steps to take when identity theft is discovered.\n\n\n\n\n\nAs a part of the Attorney General?s Office continued effort to inform the public about its resources\, the Community Engagement Division begun train-the-trainer model presentations. CED will provide a webinar training every month\, and can provide additional webinars for service organizations and agencies upon request.Landlord-Tenant Rights Presentation
X-ALT-DESC;FMTTYPE=text/html:<br />\n<strong>Identity Theft and Scams Prevention Presentation</strong><br />\n<br />\nIdentity theft is a serious crime with serious costs for victims. ID theft occurs when someone obtains your personal information - such as your Social Security Number\, credit card or account numbers\, passwords\, among others - to defraud or commit crimes. Victims of identity theft may lose significant money and time\, and may find their reputation and credit rating has been damaged\, affecting the ability to obtain loans for education or housing\, approval for rental agreements\, and approval for credit cards or large purchases requiring credit.<br />\n<br />\nThis presentation will educate consumers on how to protect personal information to prevent identity theft and about the steps to take when identity theft is discovered.<br />\n<br />\n<br />\nAs a part of the Attorney General?s Office continued effort to inform the public about its resources\, the Community Engagement Division begun train-the-trainer model presentations. CED will provide a webinar training every month\, and can provide additional webinars for service organizations and agencies upon request.Landlord-Tenant Rights Presentation<br />\n<br />\n&nbsp\;
LOCATION:
UID:e.2559.1125
SEQUENCE:3
DTSTAMP:20260424T201104Z
URL:https://business.readingnreadingchamber.org/events/details/attorney-general-s-office-community-engagement-webinar-series-identity-theft-and-scams-prevention-1125
END:VEVENT

END:VCALENDAR
