BEGIN:VCALENDAR
VERSION:2.0
PRODID:-//ChamberMaster//Event Calendar 2.0//EN
METHOD:PUBLISH
X-PUBLISHED-TTL:P3D
REFRESH-INTERVAL:P3D
CALSCALE:GREGORIAN
BEGIN:VEVENT
DTSTART:20180521T110000Z
DTEND:20180521T170000Z
X-MICROSOFT-CDO-ALLDAYEVENT:FALSE
SUMMARY:Annual Golf Tournament
DESCRIPTION:Join us at 14th Annual Small Business Golf Tournament!  Kick off the season and join us on Monday\, May 21st at Thomson Country Club\, a private\, 18-hole course.  A portion of the proceeds will benefit the business curriculum at both North Reading and Reading High Schools.  Those who register by April 30th and will enjoy a Bloody Mary at check in. \n\n\n\nIndividual Golfers are $160 and foursomes are $600. \n\nSelect the "Register Now" button above to register as a golfer or sponsor for this event.
X-ALT-DESC;FMTTYPE=text/html:<p>Join us at 14<sup>th</sup> Annual Small Business Golf Tournament!&nbsp\; Kick off the season and join us on Monday\, May 21<sup>st</sup> at Thomson Country Club\, a private\, 18-hole course.&nbsp\; A portion of the proceeds will benefit the business curriculum at both North Reading and Reading High Schools.&nbsp\; Those who register by April 30<sup>th</sup> and will enjoy a Bloody Mary at check in.&nbsp\;<br />\n<br />\nIndividual Golfers are $160 and foursomes are $600.&nbsp\;<br />\nSelect the &quot\;Register Now&quot\; button above to register as a golfer or sponsor for this event.</p>\n
LOCATION:Thomson Country Club 2 Mid Iron Drive North Reading\, MA 01864 978-664-2016
UID:e.2559.94
SEQUENCE:3
DTSTAMP:20260423T104208Z
URL:https://business.readingnreadingchamber.org/events/details/annual-golf-tournament-94
END:VEVENT

END:VCALENDAR
